BEGIN:VCALENDAR
VERSION:2.0
PRODID:-//Athens Theatre | Deland, Florida - ECPv6.15.17.1//NONSGML v1.0//EN
CALSCALE:GREGORIAN
METHOD:PUBLISH
X-WR-CALNAME:Athens Theatre | Deland, Florida
X-ORIGINAL-URL:https://athensdeland.com
X-WR-CALDESC:Events for Athens Theatre | Deland, Florida
REFRESH-INTERVAL;VALUE=DURATION:PT1H
X-Robots-Tag:noindex
X-PUBLISHED-TTL:PT1H
BEGIN:VTIMEZONE
TZID:America/New_York
BEGIN:DAYLIGHT
TZOFFSETFROM:-0500
TZOFFSETTO:-0400
TZNAME:EDT
DTSTART:20250309T070000
END:DAYLIGHT
BEGIN:STANDARD
TZOFFSETFROM:-0400
TZOFFSETTO:-0500
TZNAME:EST
DTSTART:20251102T060000
END:STANDARD
BEGIN:DAYLIGHT
TZOFFSETFROM:-0500
TZOFFSETTO:-0400
TZNAME:EDT
DTSTART:20260308T070000
END:DAYLIGHT
BEGIN:STANDARD
TZOFFSETFROM:-0400
TZOFFSETTO:-0500
TZNAME:EST
DTSTART:20261101T060000
END:STANDARD
BEGIN:DAYLIGHT
TZOFFSETFROM:-0500
TZOFFSETTO:-0400
TZNAME:EDT
DTSTART:20270314T070000
END:DAYLIGHT
BEGIN:STANDARD
TZOFFSETFROM:-0400
TZOFFSETTO:-0500
TZNAME:EST
DTSTART:20271107T060000
END:STANDARD
END:VTIMEZONE
BEGIN:VEVENT
DTSTART;TZID=America/New_York:20261022T190000
DTEND;TZID=America/New_York:20261022T210000
DTSTAMP:20260425T102504
CREATED:20240925T200023Z
LAST-MODIFIED:20251020T185948Z
UID:10002737-1792695600-1792702800@athensdeland.com
SUMMARY:SAK Comedy Lab (DeLand YMCA Fundraiser)
DESCRIPTION:Come enjoy a night of laughter with SAK Comedy Lab!  Since 1991\, their professional ensemble of improve actors has been entertaining audiences with their unique brand of live\, improvised comedy.  They take your suggestions and create characters\, scenes and songs on the spot.  Their comedy is sharp\, fun and suitable for the entire family. \nComedy for a Cause is a special event sponsored by the DeLand Family YMCA to raise funds for their scholarship campaign.  The Deland Family YMCA provides scholarships to children\, teens\, adults and seniors in our community.  These scholarships support essential programs like After-School Enrichment\, Summer Day Camp\, Swim Lessons\, Wellness Programs\, Sports and Memberships.  This year’s Comedy for a Cause will further help fund these vital programs\, ensuring that no one in need is ever turned away. \nJoin us for a night of comedy and help support the Deland Family YMCA and our local community! \nEvent Schedule: \n\n\n\n\n\nDoors open at 6:30 PM\n\nEvent starts at  7:00 PM\n\n\n\n\n\n \nGENERAL RESERVED SEATING\nGeneral Reserved Seating $35 \nA $5.00 per ticket Processing charge is added to all purchases. \nDue to the fact that the Historic Athens Theatre does not have an elevator to the balcony. The balcony is not accessible to anyone with a wheelchair or walker. \nAll Patrons with special needs can contact the Box Office at 386-736-1500 for our wheelchair/walker accessible seating.
URL:https://athensdeland.com/event/sak-comedy-lab-deland-ymca-fundraiser/
LOCATION:FL
ATTACH;FMTTYPE=image/png:https://athensdeland.com/wp-content/uploads/2024/09/SAK_ComedyForACause_2026_Web-1.png
END:VEVENT
BEGIN:VEVENT
DTSTART;TZID=America/New_York:20261023T193000
DTEND;TZID=America/New_York:20261023T210000
DTSTAMP:20260425T102504
CREATED:20200402T160709Z
LAST-MODIFIED:20251106T172255Z
UID:10000006-1792783800-1792789200@athensdeland.com
SUMMARY:John Denver Tribute
DESCRIPTION:What Sinatra was to the 1940s\, Elvis to the 1950s\, and the Beatles to the 1960s\, John Denver was to the 1970s. Known as the song’s best friend\, John’s music resonates through generations\, and Carl Bennett’s tribute show truly captures the essence of this beloved music legend.\n\n\n\n\n\n\n\n\n\n\nCarl Bennett has been described as the “real deal” when it comes to channeling Denver’s musical likeness. His remarkable voice and style bring John Denver’s greatest hits to life. This tribute is a true walk down memory lane\, featuring all of Denver’s iconic songs. \nSo\, sit back\, relax\, and let the music take you wherever it may go—just as John used to say—and enjoy an unforgettable John Denver music experience. \n\n\n\n\n\n\n\nRESERVED SEATING\nPreferred Reserved Seating $40\n1st. 6 rows Orchestra & 2 Rows Center Balcony \nGeneral Reserved Seating $35 \nA $5.00 per ticket Processing charge is added to all purchases and we collect a 6.5% State and County Sales Tax \nDue to the fact that the Historic Athens Theatre does not have an elevator to the balcony. The balcony is not accessible to anyone with a wheelchair or walker. \nAll Patrons with special needs can contact the Box Office at 386-736-1500 for our wheelchair/walker accessible seating. \n\nSPECIAL BOX SEAT PACKAGE\nBOX SEATS AVAILABLE\n6 SEATS PER BOX SEAT AREA $300\nPLEASE CONTACT THE BOX OFFICE AT 386-736-1500
URL:https://athensdeland.com/event/john-denver-tribute/
LOCATION:Athens Theatre\, 124 N Florida Ave\, DeLand\, FL\, 32720\, United States
CATEGORIES:Concert/Performances/Events
ATTACH;FMTTYPE=image/png:https://athensdeland.com/wp-content/uploads/2020/04/John-Denver_2026_Web-1.png
END:VEVENT
BEGIN:VEVENT
DTSTART;TZID=America/New_York:20261024T193000
DTEND;TZID=America/New_York:20261024T213000
DTSTAMP:20260425T102504
CREATED:20231002T203626Z
LAST-MODIFIED:20260424T170841Z
UID:10004996-1792870200-1792877400@athensdeland.com
SUMMARY:PHANTASMAGORIA XVII: “
DESCRIPTION:“. . . by the glimmer of the half-extinguished light\, I saw the dull yellow eye of the creature open. . .” \nPhantasmagoria XVII \nFRANKENSTEIN \nThe Birth of Horror – June 16th\, 1816 \nJourney with critically acclaimed Victorian Horror Troupe PHANTASMAGORIA as they light the candles at the Villa Diodati\, to celebrate the legendary and iconic tale from Mary Shelley\, as well as The Vampyre by John Polidori\, along with others that horrified the nights during that summer when the challenge “We Shall Each Write A Ghost Story” was presented to all in attendance. \nPhantasmagoria’s signature blend of Evocative Storytelling\, Phantastical Dance\, Puppetry\, Projections\, Original Music and MORE will bring to life on stage the haunted and horrific tales that mark the most legendary moments in literature – one that would change the face of horror forever. \n“See you there. . . if you dare!” \n\n  \nRESERVED SEATING \nPreferred Reserved Seating $40\n1st. 5 rows Center Orchestra & 2 Rows Center Balcony \nGeneral Reserved Seating $35 \nA $5.00 per ticket Processing charge is added to all purchases and we collect a 6.5% State and County Sales Tax \nDue to the fact that the Historic Athens Theatre does not have an elevator to the balcony. The balcony is not accessible to anyone with a wheelchair or walker. \nAll Patrons with special needs can contact the Box Office at 386-736-1500 for our wheelchair/walker accessible seating. \nSpecial Box Seat Package \nBOX SEATS AVAILABLE\n6 SEATS PER BOX SEAT AREA $300\nPLEASE CONTACT THE BOX OFFICE AT 386-736-1500
URL:https://athensdeland.com/event/phantasmagoria-xvii-frankenstein/2026-10-24/
LOCATION:FL
ATTACH;FMTTYPE=image/png:https://athensdeland.com/wp-content/uploads/2023/10/Phantasmagoria-XVII_Halloween-2026_web-1.png
END:VEVENT
END:VCALENDAR