BEGIN:VCALENDAR
VERSION:2.0
PRODID:-//Athens Theatre | Deland, Florida - ECPv6.15.17.1//NONSGML v1.0//EN
CALSCALE:GREGORIAN
METHOD:PUBLISH
X-ORIGINAL-URL:https://athensdeland.com
X-WR-CALDESC:Events for Athens Theatre | Deland, Florida
REFRESH-INTERVAL;VALUE=DURATION:PT1H
X-Robots-Tag:noindex
X-PUBLISHED-TTL:PT1H
BEGIN:VTIMEZONE
TZID:America/New_York
BEGIN:DAYLIGHT
TZOFFSETFROM:-0500
TZOFFSETTO:-0400
TZNAME:EDT
DTSTART:20250309T070000
END:DAYLIGHT
BEGIN:STANDARD
TZOFFSETFROM:-0400
TZOFFSETTO:-0500
TZNAME:EST
DTSTART:20251102T060000
END:STANDARD
BEGIN:DAYLIGHT
TZOFFSETFROM:-0500
TZOFFSETTO:-0400
TZNAME:EDT
DTSTART:20260308T070000
END:DAYLIGHT
BEGIN:STANDARD
TZOFFSETFROM:-0400
TZOFFSETTO:-0500
TZNAME:EST
DTSTART:20261101T060000
END:STANDARD
BEGIN:DAYLIGHT
TZOFFSETFROM:-0500
TZOFFSETTO:-0400
TZNAME:EDT
DTSTART:20270314T070000
END:DAYLIGHT
BEGIN:STANDARD
TZOFFSETFROM:-0400
TZOFFSETTO:-0500
TZNAME:EST
DTSTART:20271107T060000
END:STANDARD
END:VTIMEZONE
BEGIN:VEVENT
DTSTART;TZID=America/New_York:20261104T193000
DTEND;TZID=America/New_York:20261104T210000
DTSTAMP:20260425T084428
CREATED:20260329T172227Z
LAST-MODIFIED:20260329T173520Z
UID:10004991-1793820600-1793826000@athensdeland.com
SUMMARY:Magic Ann – The Heart Tribute
DESCRIPTION: Magic Ann – The Heart Tribute\nFeaturing Jade as Ann Wilson \nMagic Ann – The Heart Tribute is a powerful\, high-energy celebration of one of rock’s most iconic bands\, Heart.\nThis electrifying tribute captures the spirit\, soul\, and soaring vocals that made songs like “Barracuda\,” “Crazy On You\,” “Alone\,” and “These Dreams” timeless classics.\nFront and center is Jade\, delivering a breathtaking portrayal of Ann Wilson.\nWith commanding stage presence and stunning vocal power\, Jade channels the raw emotion\, strength\, and range that define Ann Wilson’s legendary voice.\nFrom thunderous rock anthems to heartfelt ballads\, she brings authenticity\, passion\, and precision to every performance.\nBacked by a tight\, dynamic band of seasoned musicians\, Magic Ann recreates the sound\, look\, and feel of Heart’s golden era — complete with rich harmonies\, driving guitars\, and dramatic musical builds that transport audiences straight back to the height of arena rock.\nMore than just a tribute.\nMagic Ann is a full concert experience – Powerful\, nostalgic\, and unforgettable. \n\nRESERVED SEATING\nPreferred Reserved Seating $40\n1st. 6 rows Orchestra & 2 Rows Center Balcony \nGeneral Reserved Seating $35 \nA $5.00 per ticket Processing charge is added to all purchases and we collect a 6.5% State and County Sales Tax \nDue to the fact that the Historic Athens Theatre does not have an elevator to the balcony. The balcony is not accessible to anyone with a wheelchair or walker. \nAll Patrons with special needs can contact the Box Office at 386-736-1500 for our wheelchair/walker accessible seating. \n\nSPECIAL BOX SEAT PACKAGE\nBOX SEATS AVAILABLE\n6 SEATS PER BOX SEAT AREA $300\nPLEASE CONTACT THE BOX OFFICE AT 386-736-1500
URL:https://athensdeland.com/event/magic-ann-the-heart-tribute/
LOCATION:FL
ATTACH;FMTTYPE=image/png:https://athensdeland.com/wp-content/uploads/2026/03/MagicAnn_Heart_2026_Web.png
END:VEVENT
BEGIN:VEVENT
DTSTART;TZID=America/New_York:20261106T170000
DTEND;TZID=America/New_York:20261106T183000
DTSTAMP:20260425T084429
CREATED:20200504T153727Z
LAST-MODIFIED:20251120T135646Z
UID:10003703-1793984400-1793989800@athensdeland.com
SUMMARY:Maximum Queen
DESCRIPTION:Experience the hyper-realistic sights and sounds of a Queen concert from the early 1980s\, filled with all the iconic hits\, incredible vocals\, captivating stories about Queen and their music\, costume changes\, and high-energy sing-alongs that will lift you right off your seat!\n\n\n\n\n\n\n\n\n\n\n\nMaximum Queen is a truly authentic tribute show that replicates Queen’s songs\, effects\, and music note-for-note\, live on stage. Lead singer and Welshman Martyn Jenkins\, who fronted the European touring Queen show Night at the Opera for years\, has performed for The Queen Fan Club and even for Queen’s own Brian May and Roger Taylor. \nThe band has spent countless hours in the studio\, and you’ll hear the exact multiple harmonies live that you hear on Queen’s original recordings\, all performed by Maximum Queen. Their attention to detail is unmatched\, and you must experience them performing Bohemian Rhapsody live to truly appreciate this masterpiece song as Queen envisioned it. \nWith the massive success of the Bohemian Rhapsody film reigniting Queen’s music for a new generation\, Maximum Queen will perform every song from the film\, along with many other fan favorites and deep cuts\, including Best Friend\, Keep Yourself Alive\, We Are the Champions\, Love of My Life\, Play the Game\, Another One Bites the Dust\, and more! \n\n\n\n\n\n\nReviews from past patrons include: \n\nI would definitely rate the show a 10 out of five. They were a very polished act and had five excellent musicians. The lead singer\, having to approximate to Freddie Mercury who was one of the greatest rock singers of all time\, honored Freddie very\, very well.— James L.\n“LOVED the show last week\, and I give it a 10 rating!!!! This was the second time we went to see them at the Athens Theatre\, and they were fantastic!!!!! We’ll be back to see them next year!!!” — Lynn P.\n“Nobody can replace Freddie Mercury\, but Martyn shows great respect for his legacy. He does very well vocally but makes no pretense of being able to match Freddie’s enormous talent. His esteem for Freddie and Queen is right on his sleeve.” — Robert T.\n\n\nRESERVE SEATING\nPreferred Reserved Seating $40\n1st. 6 rows Orchestra & 2 Rows Center Balcony \nGeneral Reserved Seating $35 \nA $5.00 per ticket Processing charge is added to all purchases and we collect a 6.5% State and County Sales Tax \nDue to the fact that the Historic Athens Theatre does not have an elevator to the balcony. The balcony is not accessible to anyone with a wheelchair or walker. \nAll Patrons with special needs can contact the Box Office at 386-736-1500 for our wheelchair/walker accessible seating. \n\nSPECIAL BOX SEAT PACKAGE\nBOX SEATS AVAILABLE\n6 SEATS PER BOX SEAT AREA $300\nPLEASE CONTACT THE BOX OFFICE AT 386-736-1500
URL:https://athensdeland.com/event/maximum-queen/2026-11-06/1/
LOCATION:FL
CATEGORIES:Concert/Performances/Events
ATTACH;FMTTYPE=image/png:https://athensdeland.com/wp-content/uploads/2020/05/Queen-2026_Web-2.png
END:VEVENT
BEGIN:VEVENT
DTSTART;TZID=America/New_York:20261106T200000
DTEND;TZID=America/New_York:20261106T213000
DTSTAMP:20260425T084429
CREATED:20200504T153727Z
LAST-MODIFIED:20251120T135646Z
UID:10003704-1793995200-1794000600@athensdeland.com
SUMMARY:Maximum Queen
DESCRIPTION:Experience the hyper-realistic sights and sounds of a Queen concert from the early 1980s\, filled with all the iconic hits\, incredible vocals\, captivating stories about Queen and their music\, costume changes\, and high-energy sing-alongs that will lift you right off your seat!\n\n\n\n\n\n\n\n\n\n\n\nMaximum Queen is a truly authentic tribute show that replicates Queen’s songs\, effects\, and music note-for-note\, live on stage. Lead singer and Welshman Martyn Jenkins\, who fronted the European touring Queen show Night at the Opera for years\, has performed for The Queen Fan Club and even for Queen’s own Brian May and Roger Taylor. \nThe band has spent countless hours in the studio\, and you’ll hear the exact multiple harmonies live that you hear on Queen’s original recordings\, all performed by Maximum Queen. Their attention to detail is unmatched\, and you must experience them performing Bohemian Rhapsody live to truly appreciate this masterpiece song as Queen envisioned it. \nWith the massive success of the Bohemian Rhapsody film reigniting Queen’s music for a new generation\, Maximum Queen will perform every song from the film\, along with many other fan favorites and deep cuts\, including Best Friend\, Keep Yourself Alive\, We Are the Champions\, Love of My Life\, Play the Game\, Another One Bites the Dust\, and more! \n\n\n\n\n\n\nReviews from past patrons include: \n\nI would definitely rate the show a 10 out of five. They were a very polished act and had five excellent musicians. The lead singer\, having to approximate to Freddie Mercury who was one of the greatest rock singers of all time\, honored Freddie very\, very well.— James L.\n“LOVED the show last week\, and I give it a 10 rating!!!! This was the second time we went to see them at the Athens Theatre\, and they were fantastic!!!!! We’ll be back to see them next year!!!” — Lynn P.\n“Nobody can replace Freddie Mercury\, but Martyn shows great respect for his legacy. He does very well vocally but makes no pretense of being able to match Freddie’s enormous talent. His esteem for Freddie and Queen is right on his sleeve.” — Robert T.\n\n\nRESERVE SEATING\nPreferred Reserved Seating $40\n1st. 6 rows Orchestra & 2 Rows Center Balcony \nGeneral Reserved Seating $35 \nA $5.00 per ticket Processing charge is added to all purchases and we collect a 6.5% State and County Sales Tax \nDue to the fact that the Historic Athens Theatre does not have an elevator to the balcony. The balcony is not accessible to anyone with a wheelchair or walker. \nAll Patrons with special needs can contact the Box Office at 386-736-1500 for our wheelchair/walker accessible seating. \n\nSPECIAL BOX SEAT PACKAGE\nBOX SEATS AVAILABLE\n6 SEATS PER BOX SEAT AREA $300\nPLEASE CONTACT THE BOX OFFICE AT 386-736-1500
URL:https://athensdeland.com/event/maximum-queen/2026-11-06/2/
LOCATION:FL
CATEGORIES:Concert/Performances/Events
ATTACH;FMTTYPE=image/png:https://athensdeland.com/wp-content/uploads/2020/05/Queen-2026_Web-2.png
END:VEVENT
BEGIN:VEVENT
DTSTART;TZID=America/New_York:20261107T193000
DTEND;TZID=America/New_York:20261107T213000
DTSTAMP:20260425T084429
CREATED:20200504T173607Z
LAST-MODIFIED:20250916T141003Z
UID:10000016-1794079800-1794087000@athensdeland.com
SUMMARY:The Dirty Doors: a Tribute to The Doors
DESCRIPTION:The Dirty Doors celebrate the energy\, excitement\, and passion of the timeless music of Jim Morrison and The Doors like no other tribute band. \nWith an intoxicating sound\, provocative and uncompromising songs\, and the mesmerizing power of singer Jim Morrison\, The Doors had a transformative impact on popular music and popular culture. \nBased in Atlanta\, The Dirty Doors faithfully recreates the magic of a Doors concert in sound and stage presence with all the classic hits like “Light My Fire\,” “Riders On The Storm\,” “Hello\, I Love You\,” and “L.A. Woman” for audiences across America. \nThe band features Reed Barrickman on vocals\, Matt Boehnlein on guitar\, Geoff Lewis on keyboards and Eric Sanders on drums. \nHere is what past guests have to say: \n“Absolutely amazing! My husband and I had such a good time — I think they were even better than The Doors. Each member of the band was outstanding\, and we’ll definitely be back!” – Carolina F. \n“10 out of 10 stars. The band played so well and sounded just like The Doors. Entertaining\, professional\, and a fantastic overall experience.” – James T. \n“Best tribute band I’ve seen here — they sounded just like the real thing!” – Maria L. \n“Fourth time in a row watching them at the Athens Theatre\, and they’ve been great every single time. A perfect 10!” – Robert G. \n“Thank you\, Athens Theatre\, for bringing the Dirty Doors year after year. They’re fantastic\, and the audience reaction proves everyone else feels the same way.” – Denise M. \n\nRESERVE SEATING \nPreferred Reserved Seating $40\n1st. 6 rows Orchestra & 2 Rows Center Balcony \nGeneral Reserved Seating $35 \nA $5.00 per ticket Processing charge is added to all purchases and we collect a 6.5% State and County Sales Tax \nDue to the fact that the Historic Athens Theatre does not have an elevator to the balcony. The balcony is not accessible to anyone with a wheelchair or walker. \nAll Patrons with special needs can contact the Box Office at 386-736-1500 for our wheelchair/walker accessible seating. \n\nSPECIAL BOX SEAT PACKAGE\nBOX SEATS AVAILABLE\n6 SEATS PER BOX SEAT AREA $300\nPLEASE CONTACT THE BOX OFFICE AT 386-736-1500
URL:https://athensdeland.com/event/the-dirty-doors/
LOCATION:FL
CATEGORIES:Concert/Performances/Events
ATTACH;FMTTYPE=image/png:https://athensdeland.com/wp-content/uploads/2020/05/Dirty-Doors_2026_web.png
END:VEVENT
END:VCALENDAR