BEGIN:VCALENDAR
VERSION:2.0
PRODID:-//Athens Theatre | Deland, Florida - ECPv6.15.17.1//NONSGML v1.0//EN
CALSCALE:GREGORIAN
METHOD:PUBLISH
X-WR-CALNAME:Athens Theatre | Deland, Florida
X-ORIGINAL-URL:https://athensdeland.com
X-WR-CALDESC:Events for Athens Theatre | Deland, Florida
REFRESH-INTERVAL;VALUE=DURATION:PT1H
X-Robots-Tag:noindex
X-PUBLISHED-TTL:PT1H
BEGIN:VTIMEZONE
TZID:America/New_York
BEGIN:DAYLIGHT
TZOFFSETFROM:-0500
TZOFFSETTO:-0400
TZNAME:EDT
DTSTART:20250309T070000
END:DAYLIGHT
BEGIN:STANDARD
TZOFFSETFROM:-0400
TZOFFSETTO:-0500
TZNAME:EST
DTSTART:20251102T060000
END:STANDARD
BEGIN:DAYLIGHT
TZOFFSETFROM:-0500
TZOFFSETTO:-0400
TZNAME:EDT
DTSTART:20260308T070000
END:DAYLIGHT
BEGIN:STANDARD
TZOFFSETFROM:-0400
TZOFFSETTO:-0500
TZNAME:EST
DTSTART:20261101T060000
END:STANDARD
BEGIN:DAYLIGHT
TZOFFSETFROM:-0500
TZOFFSETTO:-0400
TZNAME:EDT
DTSTART:20270314T070000
END:DAYLIGHT
BEGIN:STANDARD
TZOFFSETFROM:-0400
TZOFFSETTO:-0500
TZNAME:EST
DTSTART:20271107T060000
END:STANDARD
END:VTIMEZONE
BEGIN:VEVENT
DTSTART;TZID=America/New_York:20261209T193000
DTEND;TZID=America/New_York:20261209T213000
DTSTAMP:20260425T084223
CREATED:20260113T203042Z
LAST-MODIFIED:20260410T131941Z
UID:10004931-1796844600-1796851800@athensdeland.com
SUMMARY:A Christmas Story – The Musical!
DESCRIPTION:Book by Joseph Robinette \n\n\nMusic and lyrics by Benj Pasek and Justin Paul \n\n\nBased on the motion picture A Christmas Story distributed by Warner \n\n\nBros.\, written by Jean Shepherd\, Leigh Brown and Bob Clark\, and \n\n\nupon In God We Trust: All Others Pay Cash written by Jean Shepherd. \n\n\nProduced with permission of Warner Bros. Theatre Ventures \n\n\nand Dalfie Entertainment. \n\n\n\nYou’ll shoot your eye out! \n\n\nA Christmas Story\, The Musical brings the beloved 1983 film to hilarious life on stage. Set in 1940s Indiana\, young Ralphie Parker is determined to convince everyone that his dream gift—the official Red Ryder® Carbine-Action 200-Shot Range Model Air Rifle—is exactly what he needs for Christmas. Along the way\, he faces unforgettable obstacles\, including an infamous glowing leg lamp\, humiliating pink bunny pajamas\, a maniacal department store Santa\, and the ultimate triple-dog-dare. \n\n\nFrom the acclaimed songwriting team of Benj Pasek and Justin Paul (Dear Evan Hansen\, La La Land) and with a book by Joseph Robinette\, this spirited stage adaptation captures the warmth\, humor\, and wide-eyed holiday wonder that have made the story a seasonal tradition for generations. Nominated for three 2013 Tony Awards\, the musical has been praised by the Associated Press as “a joyous Christmas miracle\,” while The New York Times declared\, “I was dazzled.” \n\n\nBursting with nostalgic charm\, quick-witted comedy\, and memorable musical numbers\, this festive favorite delivers heart\, humor\, and holiday magic for audiences of all ages. \nProduced by special arrangement with THE DRAMATIC PUBLISHING COMPANY of\nWoodstock\, Illinois \n\nRating: G (suitable for all ages)\nRun time: Approximately 1 hour and 30 minutes\, including a 15-minute intermission \nBUY TICKETS NOW \nSPECIAL ASL/ENGLISH INTERPRETED PERFORMANCE ON SUNDAY 12/6 at 2:30 PM \nSPECIAL AUDIO DESCRIBED PERFORMANCE ON SATURDAY 12/5 at 2 PM \nTO PURCHASE TICKETS IN THE SECTION WITH THE BEST SIGHT LINES TO THE INTERPRETERS\, PLEASE CONTACT THE BOX OFFICE EITHER AT 386-736-1500 OR EMAIL US AT BOXOFFICE@ATHENSDELAND.COM \n  \n\nReserved Seating\nPreferred $38 (Row A-F\, Orchestra & CC-DD Center Balcony) \nAdult $33 – Senior $29\nStudent/Child $12 – Groups of 8 or more $26\nA $5.00 per ticket Processing charge is added to all purchases. \nAs the historic Athens Theatre does not have an elevator\, the balcony is not accessible to anyone with a wheelchair or walker. \nAll Patrons with special needs can contact the Box Office at 386-736-1500 for our wheelchair/walker accessible seating. \nSpecial Box Seat Package \nCatered exclusively by Joe Hearn Events\, The Elusive Grape\, Pat & Toni’s Sweet Things\, and 3 Smart Cookies. \n$500 – Price includes: \n\nUp to 11 seats in the Box Seat and Balcony area\nChoice of Red/White Wine\nCheese Platter\nChocolate Covered Strawberries\nCookies\n\nPlease contact the Box Office at 386-736-1500\, for this Package.\n(a $5 per seat processing fee is added to the cost of these packages) \n  \n 
URL:https://athensdeland.com/event/a-christmas-story-the-musical/2026-12-09/
LOCATION:FL
CATEGORIES:Athens Theatre Company Productions
ATTACH;FMTTYPE=image/png:https://athensdeland.com/wp-content/uploads/2026/01/AChristmasStory_Web.png
END:VEVENT
BEGIN:VEVENT
DTSTART;TZID=America/New_York:20261210T193000
DTEND;TZID=America/New_York:20261210T213000
DTSTAMP:20260425T084223
CREATED:20260113T203042Z
LAST-MODIFIED:20260410T131941Z
UID:10003950-1796931000-1796938200@athensdeland.com
SUMMARY:A Christmas Story – The Musical!
DESCRIPTION:Book by Joseph Robinette \n\n\nMusic and lyrics by Benj Pasek and Justin Paul \n\n\nBased on the motion picture A Christmas Story distributed by Warner \n\n\nBros.\, written by Jean Shepherd\, Leigh Brown and Bob Clark\, and \n\n\nupon In God We Trust: All Others Pay Cash written by Jean Shepherd. \n\n\nProduced with permission of Warner Bros. Theatre Ventures \n\n\nand Dalfie Entertainment. \n\n\n\nYou’ll shoot your eye out! \n\n\nA Christmas Story\, The Musical brings the beloved 1983 film to hilarious life on stage. Set in 1940s Indiana\, young Ralphie Parker is determined to convince everyone that his dream gift—the official Red Ryder® Carbine-Action 200-Shot Range Model Air Rifle—is exactly what he needs for Christmas. Along the way\, he faces unforgettable obstacles\, including an infamous glowing leg lamp\, humiliating pink bunny pajamas\, a maniacal department store Santa\, and the ultimate triple-dog-dare. \n\n\nFrom the acclaimed songwriting team of Benj Pasek and Justin Paul (Dear Evan Hansen\, La La Land) and with a book by Joseph Robinette\, this spirited stage adaptation captures the warmth\, humor\, and wide-eyed holiday wonder that have made the story a seasonal tradition for generations. Nominated for three 2013 Tony Awards\, the musical has been praised by the Associated Press as “a joyous Christmas miracle\,” while The New York Times declared\, “I was dazzled.” \n\n\nBursting with nostalgic charm\, quick-witted comedy\, and memorable musical numbers\, this festive favorite delivers heart\, humor\, and holiday magic for audiences of all ages. \nProduced by special arrangement with THE DRAMATIC PUBLISHING COMPANY of\nWoodstock\, Illinois \n\nRating: G (suitable for all ages)\nRun time: Approximately 1 hour and 30 minutes\, including a 15-minute intermission \nBUY TICKETS NOW \nSPECIAL ASL/ENGLISH INTERPRETED PERFORMANCE ON SUNDAY 12/6 at 2:30 PM \nSPECIAL AUDIO DESCRIBED PERFORMANCE ON SATURDAY 12/5 at 2 PM \nTO PURCHASE TICKETS IN THE SECTION WITH THE BEST SIGHT LINES TO THE INTERPRETERS\, PLEASE CONTACT THE BOX OFFICE EITHER AT 386-736-1500 OR EMAIL US AT BOXOFFICE@ATHENSDELAND.COM \n  \n\nReserved Seating\nPreferred $38 (Row A-F\, Orchestra & CC-DD Center Balcony) \nAdult $33 – Senior $29\nStudent/Child $12 – Groups of 8 or more $26\nA $5.00 per ticket Processing charge is added to all purchases. \nAs the historic Athens Theatre does not have an elevator\, the balcony is not accessible to anyone with a wheelchair or walker. \nAll Patrons with special needs can contact the Box Office at 386-736-1500 for our wheelchair/walker accessible seating. \nSpecial Box Seat Package \nCatered exclusively by Joe Hearn Events\, The Elusive Grape\, Pat & Toni’s Sweet Things\, and 3 Smart Cookies. \n$500 – Price includes: \n\nUp to 11 seats in the Box Seat and Balcony area\nChoice of Red/White Wine\nCheese Platter\nChocolate Covered Strawberries\nCookies\n\nPlease contact the Box Office at 386-736-1500\, for this Package.\n(a $5 per seat processing fee is added to the cost of these packages) \n  \n 
URL:https://athensdeland.com/event/a-christmas-story-the-musical/2026-12-10/
LOCATION:FL
CATEGORIES:Athens Theatre Company Productions
ATTACH;FMTTYPE=image/png:https://athensdeland.com/wp-content/uploads/2026/01/AChristmasStory_Web.png
END:VEVENT
BEGIN:VEVENT
DTSTART;TZID=America/New_York:20261211T193000
DTEND;TZID=America/New_York:20261211T213000
DTSTAMP:20260425T084223
CREATED:20260113T203042Z
LAST-MODIFIED:20260410T131941Z
UID:10003951-1797017400-1797024600@athensdeland.com
SUMMARY:A Christmas Story – The Musical!
DESCRIPTION:Book by Joseph Robinette \n\n\nMusic and lyrics by Benj Pasek and Justin Paul \n\n\nBased on the motion picture A Christmas Story distributed by Warner \n\n\nBros.\, written by Jean Shepherd\, Leigh Brown and Bob Clark\, and \n\n\nupon In God We Trust: All Others Pay Cash written by Jean Shepherd. \n\n\nProduced with permission of Warner Bros. Theatre Ventures \n\n\nand Dalfie Entertainment. \n\n\n\nYou’ll shoot your eye out! \n\n\nA Christmas Story\, The Musical brings the beloved 1983 film to hilarious life on stage. Set in 1940s Indiana\, young Ralphie Parker is determined to convince everyone that his dream gift—the official Red Ryder® Carbine-Action 200-Shot Range Model Air Rifle—is exactly what he needs for Christmas. Along the way\, he faces unforgettable obstacles\, including an infamous glowing leg lamp\, humiliating pink bunny pajamas\, a maniacal department store Santa\, and the ultimate triple-dog-dare. \n\n\nFrom the acclaimed songwriting team of Benj Pasek and Justin Paul (Dear Evan Hansen\, La La Land) and with a book by Joseph Robinette\, this spirited stage adaptation captures the warmth\, humor\, and wide-eyed holiday wonder that have made the story a seasonal tradition for generations. Nominated for three 2013 Tony Awards\, the musical has been praised by the Associated Press as “a joyous Christmas miracle\,” while The New York Times declared\, “I was dazzled.” \n\n\nBursting with nostalgic charm\, quick-witted comedy\, and memorable musical numbers\, this festive favorite delivers heart\, humor\, and holiday magic for audiences of all ages. \nProduced by special arrangement with THE DRAMATIC PUBLISHING COMPANY of\nWoodstock\, Illinois \n\nRating: G (suitable for all ages)\nRun time: Approximately 1 hour and 30 minutes\, including a 15-minute intermission \nBUY TICKETS NOW \nSPECIAL ASL/ENGLISH INTERPRETED PERFORMANCE ON SUNDAY 12/6 at 2:30 PM \nSPECIAL AUDIO DESCRIBED PERFORMANCE ON SATURDAY 12/5 at 2 PM \nTO PURCHASE TICKETS IN THE SECTION WITH THE BEST SIGHT LINES TO THE INTERPRETERS\, PLEASE CONTACT THE BOX OFFICE EITHER AT 386-736-1500 OR EMAIL US AT BOXOFFICE@ATHENSDELAND.COM \n  \n\nReserved Seating\nPreferred $38 (Row A-F\, Orchestra & CC-DD Center Balcony) \nAdult $33 – Senior $29\nStudent/Child $12 – Groups of 8 or more $26\nA $5.00 per ticket Processing charge is added to all purchases. \nAs the historic Athens Theatre does not have an elevator\, the balcony is not accessible to anyone with a wheelchair or walker. \nAll Patrons with special needs can contact the Box Office at 386-736-1500 for our wheelchair/walker accessible seating. \nSpecial Box Seat Package \nCatered exclusively by Joe Hearn Events\, The Elusive Grape\, Pat & Toni’s Sweet Things\, and 3 Smart Cookies. \n$500 – Price includes: \n\nUp to 11 seats in the Box Seat and Balcony area\nChoice of Red/White Wine\nCheese Platter\nChocolate Covered Strawberries\nCookies\n\nPlease contact the Box Office at 386-736-1500\, for this Package.\n(a $5 per seat processing fee is added to the cost of these packages) \n  \n 
URL:https://athensdeland.com/event/a-christmas-story-the-musical/2026-12-11/
LOCATION:FL
CATEGORIES:Athens Theatre Company Productions
ATTACH;FMTTYPE=image/png:https://athensdeland.com/wp-content/uploads/2026/01/AChristmasStory_Web.png
END:VEVENT
BEGIN:VEVENT
DTSTART;TZID=America/New_York:20261212T193000
DTEND;TZID=America/New_York:20261212T213000
DTSTAMP:20260425T084223
CREATED:20260113T203042Z
LAST-MODIFIED:20260410T131941Z
UID:10003952-1797103800-1797111000@athensdeland.com
SUMMARY:A Christmas Story – The Musical!
DESCRIPTION:Book by Joseph Robinette \n\n\nMusic and lyrics by Benj Pasek and Justin Paul \n\n\nBased on the motion picture A Christmas Story distributed by Warner \n\n\nBros.\, written by Jean Shepherd\, Leigh Brown and Bob Clark\, and \n\n\nupon In God We Trust: All Others Pay Cash written by Jean Shepherd. \n\n\nProduced with permission of Warner Bros. Theatre Ventures \n\n\nand Dalfie Entertainment. \n\n\n\nYou’ll shoot your eye out! \n\n\nA Christmas Story\, The Musical brings the beloved 1983 film to hilarious life on stage. Set in 1940s Indiana\, young Ralphie Parker is determined to convince everyone that his dream gift—the official Red Ryder® Carbine-Action 200-Shot Range Model Air Rifle—is exactly what he needs for Christmas. Along the way\, he faces unforgettable obstacles\, including an infamous glowing leg lamp\, humiliating pink bunny pajamas\, a maniacal department store Santa\, and the ultimate triple-dog-dare. \n\n\nFrom the acclaimed songwriting team of Benj Pasek and Justin Paul (Dear Evan Hansen\, La La Land) and with a book by Joseph Robinette\, this spirited stage adaptation captures the warmth\, humor\, and wide-eyed holiday wonder that have made the story a seasonal tradition for generations. Nominated for three 2013 Tony Awards\, the musical has been praised by the Associated Press as “a joyous Christmas miracle\,” while The New York Times declared\, “I was dazzled.” \n\n\nBursting with nostalgic charm\, quick-witted comedy\, and memorable musical numbers\, this festive favorite delivers heart\, humor\, and holiday magic for audiences of all ages. \nProduced by special arrangement with THE DRAMATIC PUBLISHING COMPANY of\nWoodstock\, Illinois \n\nRating: G (suitable for all ages)\nRun time: Approximately 1 hour and 30 minutes\, including a 15-minute intermission \nBUY TICKETS NOW \nSPECIAL ASL/ENGLISH INTERPRETED PERFORMANCE ON SUNDAY 12/6 at 2:30 PM \nSPECIAL AUDIO DESCRIBED PERFORMANCE ON SATURDAY 12/5 at 2 PM \nTO PURCHASE TICKETS IN THE SECTION WITH THE BEST SIGHT LINES TO THE INTERPRETERS\, PLEASE CONTACT THE BOX OFFICE EITHER AT 386-736-1500 OR EMAIL US AT BOXOFFICE@ATHENSDELAND.COM \n  \n\nReserved Seating\nPreferred $38 (Row A-F\, Orchestra & CC-DD Center Balcony) \nAdult $33 – Senior $29\nStudent/Child $12 – Groups of 8 or more $26\nA $5.00 per ticket Processing charge is added to all purchases. \nAs the historic Athens Theatre does not have an elevator\, the balcony is not accessible to anyone with a wheelchair or walker. \nAll Patrons with special needs can contact the Box Office at 386-736-1500 for our wheelchair/walker accessible seating. \nSpecial Box Seat Package \nCatered exclusively by Joe Hearn Events\, The Elusive Grape\, Pat & Toni’s Sweet Things\, and 3 Smart Cookies. \n$500 – Price includes: \n\nUp to 11 seats in the Box Seat and Balcony area\nChoice of Red/White Wine\nCheese Platter\nChocolate Covered Strawberries\nCookies\n\nPlease contact the Box Office at 386-736-1500\, for this Package.\n(a $5 per seat processing fee is added to the cost of these packages) \n  \n 
URL:https://athensdeland.com/event/a-christmas-story-the-musical/2026-12-12/
LOCATION:FL
CATEGORIES:Athens Theatre Company Productions
ATTACH;FMTTYPE=image/png:https://athensdeland.com/wp-content/uploads/2026/01/AChristmasStory_Web.png
END:VEVENT
BEGIN:VEVENT
DTSTART;TZID=America/New_York:20261213T143000
DTEND;TZID=America/New_York:20261213T163000
DTSTAMP:20260425T084223
CREATED:20260113T203042Z
LAST-MODIFIED:20260410T131941Z
UID:10003953-1797172200-1797179400@athensdeland.com
SUMMARY:A Christmas Story – The Musical!
DESCRIPTION:Book by Joseph Robinette \n\n\nMusic and lyrics by Benj Pasek and Justin Paul \n\n\nBased on the motion picture A Christmas Story distributed by Warner \n\n\nBros.\, written by Jean Shepherd\, Leigh Brown and Bob Clark\, and \n\n\nupon In God We Trust: All Others Pay Cash written by Jean Shepherd. \n\n\nProduced with permission of Warner Bros. Theatre Ventures \n\n\nand Dalfie Entertainment. \n\n\n\nYou’ll shoot your eye out! \n\n\nA Christmas Story\, The Musical brings the beloved 1983 film to hilarious life on stage. Set in 1940s Indiana\, young Ralphie Parker is determined to convince everyone that his dream gift—the official Red Ryder® Carbine-Action 200-Shot Range Model Air Rifle—is exactly what he needs for Christmas. Along the way\, he faces unforgettable obstacles\, including an infamous glowing leg lamp\, humiliating pink bunny pajamas\, a maniacal department store Santa\, and the ultimate triple-dog-dare. \n\n\nFrom the acclaimed songwriting team of Benj Pasek and Justin Paul (Dear Evan Hansen\, La La Land) and with a book by Joseph Robinette\, this spirited stage adaptation captures the warmth\, humor\, and wide-eyed holiday wonder that have made the story a seasonal tradition for generations. Nominated for three 2013 Tony Awards\, the musical has been praised by the Associated Press as “a joyous Christmas miracle\,” while The New York Times declared\, “I was dazzled.” \n\n\nBursting with nostalgic charm\, quick-witted comedy\, and memorable musical numbers\, this festive favorite delivers heart\, humor\, and holiday magic for audiences of all ages. \nProduced by special arrangement with THE DRAMATIC PUBLISHING COMPANY of\nWoodstock\, Illinois \n\nRating: G (suitable for all ages)\nRun time: Approximately 1 hour and 30 minutes\, including a 15-minute intermission \nBUY TICKETS NOW \nSPECIAL ASL/ENGLISH INTERPRETED PERFORMANCE ON SUNDAY 12/6 at 2:30 PM \nSPECIAL AUDIO DESCRIBED PERFORMANCE ON SATURDAY 12/5 at 2 PM \nTO PURCHASE TICKETS IN THE SECTION WITH THE BEST SIGHT LINES TO THE INTERPRETERS\, PLEASE CONTACT THE BOX OFFICE EITHER AT 386-736-1500 OR EMAIL US AT BOXOFFICE@ATHENSDELAND.COM \n  \n\nReserved Seating\nPreferred $38 (Row A-F\, Orchestra & CC-DD Center Balcony) \nAdult $33 – Senior $29\nStudent/Child $12 – Groups of 8 or more $26\nA $5.00 per ticket Processing charge is added to all purchases. \nAs the historic Athens Theatre does not have an elevator\, the balcony is not accessible to anyone with a wheelchair or walker. \nAll Patrons with special needs can contact the Box Office at 386-736-1500 for our wheelchair/walker accessible seating. \nSpecial Box Seat Package \nCatered exclusively by Joe Hearn Events\, The Elusive Grape\, Pat & Toni’s Sweet Things\, and 3 Smart Cookies. \n$500 – Price includes: \n\nUp to 11 seats in the Box Seat and Balcony area\nChoice of Red/White Wine\nCheese Platter\nChocolate Covered Strawberries\nCookies\n\nPlease contact the Box Office at 386-736-1500\, for this Package.\n(a $5 per seat processing fee is added to the cost of these packages) \n  \n 
URL:https://athensdeland.com/event/a-christmas-story-the-musical/2026-12-13/
LOCATION:FL
CATEGORIES:Athens Theatre Company Productions
ATTACH;FMTTYPE=image/png:https://athensdeland.com/wp-content/uploads/2026/01/AChristmasStory_Web.png
END:VEVENT
END:VCALENDAR