BEGIN:VCALENDAR
VERSION:2.0
PRODID:-//Athens Theatre | Deland, Florida - ECPv6.15.17.1//NONSGML v1.0//EN
CALSCALE:GREGORIAN
METHOD:PUBLISH
X-ORIGINAL-URL:https://athensdeland.com
X-WR-CALDESC:Events for Athens Theatre | Deland, Florida
REFRESH-INTERVAL;VALUE=DURATION:PT1H
X-Robots-Tag:noindex
X-PUBLISHED-TTL:PT1H
BEGIN:VTIMEZONE
TZID:America/New_York
BEGIN:DAYLIGHT
TZOFFSETFROM:-0500
TZOFFSETTO:-0400
TZNAME:EDT
DTSTART:20260308T070000
END:DAYLIGHT
BEGIN:STANDARD
TZOFFSETFROM:-0400
TZOFFSETTO:-0500
TZNAME:EST
DTSTART:20261101T060000
END:STANDARD
BEGIN:DAYLIGHT
TZOFFSETFROM:-0500
TZOFFSETTO:-0400
TZNAME:EDT
DTSTART:20270314T070000
END:DAYLIGHT
BEGIN:STANDARD
TZOFFSETFROM:-0400
TZOFFSETTO:-0500
TZNAME:EST
DTSTART:20271107T060000
END:STANDARD
BEGIN:DAYLIGHT
TZOFFSETFROM:-0500
TZOFFSETTO:-0400
TZNAME:EDT
DTSTART:20280312T070000
END:DAYLIGHT
BEGIN:STANDARD
TZOFFSETFROM:-0400
TZOFFSETTO:-0500
TZNAME:EST
DTSTART:20281105T060000
END:STANDARD
END:VTIMEZONE
BEGIN:VEVENT
DTSTART;TZID=America/New_York:20270303T193000
DTEND;TZID=America/New_York:20270303T210000
DTSTAMP:20260425T154213
CREATED:20231024T214237Z
LAST-MODIFIED:20251211T181512Z
UID:10000809-1804102200-1804107600@athensdeland.com
SUMMARY:The World's Premier Johnny Cash Tribute Starring Terry Lee Goffee!
DESCRIPTION:In the spring of 1955\, Johnny Cash walked into the legendary Sun Recording Studios in Memphis\, Tennessee. The music world was never the same. \nNot long afterward\, Terry Lee Goffee put his first Johnny Cash record on a turntable\, and his world was never the same. He has been a fan of Johnny Cash since he was about 8 years old. Johnny Cash and Elvis were his first two musical influences. He always felt Johnny’s music got better over the years. Cash’s songs addressed a lot of issues common to many people\, whether they were sensitive social issues or just some slice of life to which the average person could relate. \nHaving firsthand knowledge of others who were doing tributes and wanting to honor his musical hero\, Terry decided to start performing “Train of Love: A Tribute to Johnny Cash.” He wanted to make his show a little different and unique by portraying Johnny Cash in the first person\, rather than just standing there and singing the songs. Like an actor in a play\, he literally becomes his character\, in this case\, Johnny Cash\, from the moment he walks onstage until the end of the show. \nAmong the 34 songs included in the tribute are such Cash classics as: “A Boy Named Sue\,” “Sunday Morning Coming Down\,” “I Walk The Line\,” “Ring Of Fire\,” “Folsom Prison Blues\,” and “Hurt.” In June 2003\, Terry took the “Train of Love” tribute to Nashville for two performances. Cash’s brother and sister attended the show and were very complimentary afterward. \nTommy Cash stated\, “My Brother would be proud.” Joanne Cash Yates commented\, “It’s a wonderful show\, I would recommend it to anyone\,” and “you don’t impersonate my brother\, you pay tribute to him with honor.” \nTerry’s appreciation and love\, not only for the music of Johnny Cash but for the man himself. A champion of the underdog\, a voice for those who often have none\, an “outlaw” before it became fashionable. If you come away from this presentation with a better understanding of who Johnny Cash is\, Terry will have succeeded in his vision for this endeavor. \nEnjoy the Ride – Terry Lee Goffee \nTerry Lee’s Tribute to Johnny Cash has taken him all across the U.S.\, Canada\, Ireland\, and the UK. He looks like Johnny. He sounds like Johnny. He moves like Johnny. Nobody does Johnny Cash like Terry Lee Goffee! \n\nRESERVE SEATING\nPreferred Reserved Seating $401st. 6 rows Orchestra & 2 Rows Center Balcony \nGeneral Reserved Seating $35 \nA $5.00 per ticket Processing charge is added to all purchases and we collect a 6.5% State and County Sales Tax \nDue to the fact that the Historic Athens Theatre does not have an elevator to the balcony. The balcony is not accessible to anyone with a wheelchair or walker. \nAll Patrons with special needs can contact the Box Office at 386-736-1500 for our wheelchair/walker accessible seating. \n\n\n\n\n\nSPECIAL BOX SEAT PACKAGE \nBOX SEATS AVAILABLE6 SEATS PER BOX SEAT AREA $300PLEASE CONTACT THE BOX OFFICE AT 386-736-1500
URL:https://athensdeland.com/event/the-worlds-premiere-johnny-cash-tribute-starring-terry-lee-goffee-tickets-on-sale-04-2024/
LOCATION:FL
CATEGORIES:Concert/Performances/Events
ATTACH;FMTTYPE=image/png:https://athensdeland.com/wp-content/uploads/2023/10/Cash_TerryLeeGoffee_2027_Web.png
END:VEVENT
BEGIN:VEVENT
DTSTART;TZID=America/New_York:20270304T193000
DTEND;TZID=America/New_York:20270304T213000
DTSTAMP:20260425T154213
CREATED:20260114T210940Z
LAST-MODIFIED:20260410T132329Z
UID:10004935-1804188600-1804195800@athensdeland.com
SUMMARY:Ted Swindley’s Honky Tonk Angels
DESCRIPTION:Turn It Up and Hit The road. \nSet to a soundtrack of legendary\, classic country music Honky Tonk Angels is a feel-good\, foot-stompin’ show filled with laughter\, friendship\, and beloved tunes. This lively jukebox musical delivers a boot-stomping celebration of iconic music and camaraderie\, following three small-town friends—Angela\, Darlene\, and Sue Ellen—who set their sights on Nashville in pursuit of country music stardom. As they hit the road\, the music fuels laughter\, heartache\, and a bond that grows stronger with every mile. Packed with toe-tapping tunes\, down-home charm\, and plenty of twang\, Honky Tonk Angels turns the stage into a full-on honky-tonk and reminds audiences that sometimes the best part of the journey is who you share it with. \nPresented through special arrangement with Broadway Licensing Global (www.broadwaylicensing.com) \nRating: PG-13 (adult themes and song content)\nRun time: Approximately 2 hours\, including a 15-minute intermission \nBUY TICKETS NOW \nSPECIAL ASL/ENGLISH INTERPRETED PERFORMANCE ON SATURDAY 3/13 at 7:30 PM \nSPECIAL AUDIO DESCRIBED PERFORMANCE ON SUNDAY 3/14 at 2:30 PM \nTO PURCHASE TICKETS IN THE SECTION WITH THE BEST SIGHT LINES TO THE INTERPRETERS\, PLEASE CONTACT THE BOX OFFICE EITHER AT 386-736-1500 OR EMAIL US AT BOXOFFICE@ATHENSDELAND.COM \n\nReserved Seating\nPreferred $38 (Row A-F\, Orchestra & CC-DD Center Balcony) \nAdult $33 – Senior $29\nStudent/Child $12 – Groups of 8 or more $26\nA $5.00 per ticket Processing charge is added to all purchases. \nAs the historic Athens Theatre does not have an elevator\, the balcony is not accessible to anyone with a wheelchair or walker. \nAll Patrons with special needs can contact the Box Office at 386-736-1500 for our wheelchair/walker accessible seating. \nSpecial Box Seat Package \nCatered exclusively by Joe Hearn Events\, The Elusive Grape\, Pat & Toni’s Sweet Things\, and 3 Smart Cookies. \n$500 – Price includes: \n\nUp to 11 seats in the Box Seat and Balcony area\nChoice of Red/White Wine\nCheese Platter\nChocolate Covered Strawberries\nCookies\n\nPlease contact the Box Office at 386-736-1500\, for this Package.\n(a $5 per seat processing fee is added to the cost of these packages)
URL:https://athensdeland.com/event/ted-swindleys-honky-tonk-angels/2027-03-04/
LOCATION:FL
CATEGORIES:Athens Theatre Company Productions
ATTACH;FMTTYPE=image/webp:https://athensdeland.com/wp-content/uploads/2026/01/HonkyTonkAngels_Web.webp
END:VEVENT
BEGIN:VEVENT
DTSTART;TZID=America/New_York:20270305T193000
DTEND;TZID=America/New_York:20270305T213000
DTSTAMP:20260425T154213
CREATED:20260114T210940Z
LAST-MODIFIED:20260410T132329Z
UID:10004936-1804275000-1804282200@athensdeland.com
SUMMARY:Ted Swindley’s Honky Tonk Angels
DESCRIPTION:Turn It Up and Hit The road. \nSet to a soundtrack of legendary\, classic country music Honky Tonk Angels is a feel-good\, foot-stompin’ show filled with laughter\, friendship\, and beloved tunes. This lively jukebox musical delivers a boot-stomping celebration of iconic music and camaraderie\, following three small-town friends—Angela\, Darlene\, and Sue Ellen—who set their sights on Nashville in pursuit of country music stardom. As they hit the road\, the music fuels laughter\, heartache\, and a bond that grows stronger with every mile. Packed with toe-tapping tunes\, down-home charm\, and plenty of twang\, Honky Tonk Angels turns the stage into a full-on honky-tonk and reminds audiences that sometimes the best part of the journey is who you share it with. \nPresented through special arrangement with Broadway Licensing Global (www.broadwaylicensing.com) \nRating: PG-13 (adult themes and song content)\nRun time: Approximately 2 hours\, including a 15-minute intermission \nBUY TICKETS NOW \nSPECIAL ASL/ENGLISH INTERPRETED PERFORMANCE ON SATURDAY 3/13 at 7:30 PM \nSPECIAL AUDIO DESCRIBED PERFORMANCE ON SUNDAY 3/14 at 2:30 PM \nTO PURCHASE TICKETS IN THE SECTION WITH THE BEST SIGHT LINES TO THE INTERPRETERS\, PLEASE CONTACT THE BOX OFFICE EITHER AT 386-736-1500 OR EMAIL US AT BOXOFFICE@ATHENSDELAND.COM \n\nReserved Seating\nPreferred $38 (Row A-F\, Orchestra & CC-DD Center Balcony) \nAdult $33 – Senior $29\nStudent/Child $12 – Groups of 8 or more $26\nA $5.00 per ticket Processing charge is added to all purchases. \nAs the historic Athens Theatre does not have an elevator\, the balcony is not accessible to anyone with a wheelchair or walker. \nAll Patrons with special needs can contact the Box Office at 386-736-1500 for our wheelchair/walker accessible seating. \nSpecial Box Seat Package \nCatered exclusively by Joe Hearn Events\, The Elusive Grape\, Pat & Toni’s Sweet Things\, and 3 Smart Cookies. \n$500 – Price includes: \n\nUp to 11 seats in the Box Seat and Balcony area\nChoice of Red/White Wine\nCheese Platter\nChocolate Covered Strawberries\nCookies\n\nPlease contact the Box Office at 386-736-1500\, for this Package.\n(a $5 per seat processing fee is added to the cost of these packages)
URL:https://athensdeland.com/event/ted-swindleys-honky-tonk-angels/2027-03-05/
LOCATION:FL
CATEGORIES:Athens Theatre Company Productions
ATTACH;FMTTYPE=image/webp:https://athensdeland.com/wp-content/uploads/2026/01/HonkyTonkAngels_Web.webp
END:VEVENT
BEGIN:VEVENT
DTSTART;TZID=America/New_York:20270306T193000
DTEND;TZID=America/New_York:20270306T213000
DTSTAMP:20260425T154213
CREATED:20260114T210940Z
LAST-MODIFIED:20260410T132329Z
UID:10004937-1804361400-1804368600@athensdeland.com
SUMMARY:Ted Swindley’s Honky Tonk Angels
DESCRIPTION:Turn It Up and Hit The road. \nSet to a soundtrack of legendary\, classic country music Honky Tonk Angels is a feel-good\, foot-stompin’ show filled with laughter\, friendship\, and beloved tunes. This lively jukebox musical delivers a boot-stomping celebration of iconic music and camaraderie\, following three small-town friends—Angela\, Darlene\, and Sue Ellen—who set their sights on Nashville in pursuit of country music stardom. As they hit the road\, the music fuels laughter\, heartache\, and a bond that grows stronger with every mile. Packed with toe-tapping tunes\, down-home charm\, and plenty of twang\, Honky Tonk Angels turns the stage into a full-on honky-tonk and reminds audiences that sometimes the best part of the journey is who you share it with. \nPresented through special arrangement with Broadway Licensing Global (www.broadwaylicensing.com) \nRating: PG-13 (adult themes and song content)\nRun time: Approximately 2 hours\, including a 15-minute intermission \nBUY TICKETS NOW \nSPECIAL ASL/ENGLISH INTERPRETED PERFORMANCE ON SATURDAY 3/13 at 7:30 PM \nSPECIAL AUDIO DESCRIBED PERFORMANCE ON SUNDAY 3/14 at 2:30 PM \nTO PURCHASE TICKETS IN THE SECTION WITH THE BEST SIGHT LINES TO THE INTERPRETERS\, PLEASE CONTACT THE BOX OFFICE EITHER AT 386-736-1500 OR EMAIL US AT BOXOFFICE@ATHENSDELAND.COM \n\nReserved Seating\nPreferred $38 (Row A-F\, Orchestra & CC-DD Center Balcony) \nAdult $33 – Senior $29\nStudent/Child $12 – Groups of 8 or more $26\nA $5.00 per ticket Processing charge is added to all purchases. \nAs the historic Athens Theatre does not have an elevator\, the balcony is not accessible to anyone with a wheelchair or walker. \nAll Patrons with special needs can contact the Box Office at 386-736-1500 for our wheelchair/walker accessible seating. \nSpecial Box Seat Package \nCatered exclusively by Joe Hearn Events\, The Elusive Grape\, Pat & Toni’s Sweet Things\, and 3 Smart Cookies. \n$500 – Price includes: \n\nUp to 11 seats in the Box Seat and Balcony area\nChoice of Red/White Wine\nCheese Platter\nChocolate Covered Strawberries\nCookies\n\nPlease contact the Box Office at 386-736-1500\, for this Package.\n(a $5 per seat processing fee is added to the cost of these packages)
URL:https://athensdeland.com/event/ted-swindleys-honky-tonk-angels/2027-03-06/
LOCATION:FL
CATEGORIES:Athens Theatre Company Productions
ATTACH;FMTTYPE=image/webp:https://athensdeland.com/wp-content/uploads/2026/01/HonkyTonkAngels_Web.webp
END:VEVENT
BEGIN:VEVENT
DTSTART;TZID=America/New_York:20270307T143000
DTEND;TZID=America/New_York:20270307T163000
DTSTAMP:20260425T154213
CREATED:20260114T210940Z
LAST-MODIFIED:20260410T132329Z
UID:10004938-1804429800-1804437000@athensdeland.com
SUMMARY:Ted Swindley’s Honky Tonk Angels
DESCRIPTION:Turn It Up and Hit The road. \nSet to a soundtrack of legendary\, classic country music Honky Tonk Angels is a feel-good\, foot-stompin’ show filled with laughter\, friendship\, and beloved tunes. This lively jukebox musical delivers a boot-stomping celebration of iconic music and camaraderie\, following three small-town friends—Angela\, Darlene\, and Sue Ellen—who set their sights on Nashville in pursuit of country music stardom. As they hit the road\, the music fuels laughter\, heartache\, and a bond that grows stronger with every mile. Packed with toe-tapping tunes\, down-home charm\, and plenty of twang\, Honky Tonk Angels turns the stage into a full-on honky-tonk and reminds audiences that sometimes the best part of the journey is who you share it with. \nPresented through special arrangement with Broadway Licensing Global (www.broadwaylicensing.com) \nRating: PG-13 (adult themes and song content)\nRun time: Approximately 2 hours\, including a 15-minute intermission \nBUY TICKETS NOW \nSPECIAL ASL/ENGLISH INTERPRETED PERFORMANCE ON SATURDAY 3/13 at 7:30 PM \nSPECIAL AUDIO DESCRIBED PERFORMANCE ON SUNDAY 3/14 at 2:30 PM \nTO PURCHASE TICKETS IN THE SECTION WITH THE BEST SIGHT LINES TO THE INTERPRETERS\, PLEASE CONTACT THE BOX OFFICE EITHER AT 386-736-1500 OR EMAIL US AT BOXOFFICE@ATHENSDELAND.COM \n\nReserved Seating\nPreferred $38 (Row A-F\, Orchestra & CC-DD Center Balcony) \nAdult $33 – Senior $29\nStudent/Child $12 – Groups of 8 or more $26\nA $5.00 per ticket Processing charge is added to all purchases. \nAs the historic Athens Theatre does not have an elevator\, the balcony is not accessible to anyone with a wheelchair or walker. \nAll Patrons with special needs can contact the Box Office at 386-736-1500 for our wheelchair/walker accessible seating. \nSpecial Box Seat Package \nCatered exclusively by Joe Hearn Events\, The Elusive Grape\, Pat & Toni’s Sweet Things\, and 3 Smart Cookies. \n$500 – Price includes: \n\nUp to 11 seats in the Box Seat and Balcony area\nChoice of Red/White Wine\nCheese Platter\nChocolate Covered Strawberries\nCookies\n\nPlease contact the Box Office at 386-736-1500\, for this Package.\n(a $5 per seat processing fee is added to the cost of these packages)
URL:https://athensdeland.com/event/ted-swindleys-honky-tonk-angels/2027-03-07/
LOCATION:FL
CATEGORIES:Athens Theatre Company Productions
ATTACH;FMTTYPE=image/webp:https://athensdeland.com/wp-content/uploads/2026/01/HonkyTonkAngels_Web.webp
END:VEVENT
END:VCALENDAR