BEGIN:VCALENDAR
VERSION:2.0
PRODID:-//Athens Theatre | Deland, Florida - ECPv6.15.17.1//NONSGML v1.0//EN
CALSCALE:GREGORIAN
METHOD:PUBLISH
X-ORIGINAL-URL:https://athensdeland.com
X-WR-CALDESC:Events for Athens Theatre | Deland, Florida
REFRESH-INTERVAL;VALUE=DURATION:PT1H
X-Robots-Tag:noindex
X-PUBLISHED-TTL:PT1H
BEGIN:VTIMEZONE
TZID:America/New_York
BEGIN:DAYLIGHT
TZOFFSETFROM:-0500
TZOFFSETTO:-0400
TZNAME:EDT
DTSTART:20260308T070000
END:DAYLIGHT
BEGIN:STANDARD
TZOFFSETFROM:-0400
TZOFFSETTO:-0500
TZNAME:EST
DTSTART:20261101T060000
END:STANDARD
BEGIN:DAYLIGHT
TZOFFSETFROM:-0500
TZOFFSETTO:-0400
TZNAME:EDT
DTSTART:20270314T070000
END:DAYLIGHT
BEGIN:STANDARD
TZOFFSETFROM:-0400
TZOFFSETTO:-0500
TZNAME:EST
DTSTART:20271107T060000
END:STANDARD
BEGIN:DAYLIGHT
TZOFFSETFROM:-0500
TZOFFSETTO:-0400
TZNAME:EDT
DTSTART:20280312T070000
END:DAYLIGHT
BEGIN:STANDARD
TZOFFSETFROM:-0400
TZOFFSETTO:-0500
TZNAME:EST
DTSTART:20281105T060000
END:STANDARD
END:VTIMEZONE
BEGIN:VEVENT
DTSTART;TZID=America/New_York:20270317T170000
DTEND;TZID=America/New_York:20270317T184500
DTSTAMP:20260425T220102
CREATED:20190829T144823Z
LAST-MODIFIED:20260424T182923Z
UID:10004997-1805302800-1805309100@athensdeland.com
SUMMARY:Forever ABBA Canada!
DESCRIPTION:ABBA is one of the most popular groups in the world today. Their record-breaking hits continue to thrill music lovers of all ages. Since their first triumph at Eurovision in 1974\, ABBA has sold over 400 million copies of their albums. Furthermore\, new renditions of popular ABBA songs now permeate modern musicals and media\, stimulating a new generation of ABBA fans! \nForever ABBA Canada is North America’s #1 tribute to ABBA and its members have been dazzling audiences across the globe for many years. Forever ABBA Canada recreates the magic of ABBA with authentic costumes\, spectacular harmonies and note-perfect musicianship taking their audience on a musical journey back in time! \nHere’s what past guests have to say! \n“The show was excellent! Had attended last year\, and that experience was excellent as well. Hope ABBA Canada continues as a fixture on the Athens schedule for years to come.” – Amanda F. \n“10/10! This was my second time seeing ABBA Forever Canada at the Athens! They were amazing\, and I hope they return every year!!” – Jessica M. \n“A big 10! My granddaughter and I attended the ABBA concert and were delighted by the show. She still talks about it and wants to see another show. Good time had! We saw them the last time they were in town.” – Linda K. \n“A ten! For the ABBA show!” – Steve T. \n“Outstanding concert! Loved the music\, costumes\, engaging singers\, and incredible musicians! We just loved the whole Athens experience!” — Rebecca L. \n“Fantastic show! The energy was off the charts\, and the harmonies were spot on. It felt like a real ABBA concert\, and we couldn’t stop dancing. Can’t wait for the next one!” — Sarah M. \n“What a night! The costumes were perfect\, and the music transported us back in time. The whole audience was singing along\, and the band was amazing. Definitely one of the best shows we’ve seen at Athens!” — Mark T.. \n\nRESERVED SEATING \nPreferred Reserved Seating $401st. 6 rows Orchestra & 2 Rows Center Balcony \nGeneral Reserved Seating $35 \nA $5.00 per ticket Processing charge is added to all purchases and we collect a 6.5% State and County Sales Tax \nDue to the fact that the Historic Athens Theatre does not have an elevator to the balcony. The balcony is not accessible to anyone with a wheelchair or walker. \nAll Patrons with special needs can contact the Box Office at 386-736-1500 for our wheelchair/walker accessible seating. \n\n\n\n\n\nSPECIAL BOX SEAT PACKAGE \nBOX SEATS AVAILABLE6 SEATS PER BOX SEAT AREA $300PLEASE CONTACT THE BOX OFFICE AT 386-736-1500
URL:https://athensdeland.com/event/foreverabbacanada/2027-03-17/1/
LOCATION:FL
CATEGORIES:Concert/Performances/Events
ATTACH;FMTTYPE=image/png:https://athensdeland.com/wp-content/uploads/2019/08/ForeverABBACanada_2027_Web.png
END:VEVENT
BEGIN:VEVENT
DTSTART;TZID=America/New_York:20270317T200000
DTEND;TZID=America/New_York:20270317T214500
DTSTAMP:20260425T220102
CREATED:20190829T144823Z
LAST-MODIFIED:20260424T182923Z
UID:10004998-1805313600-1805319900@athensdeland.com
SUMMARY:Forever ABBA Canada!
DESCRIPTION:ABBA is one of the most popular groups in the world today. Their record-breaking hits continue to thrill music lovers of all ages. Since their first triumph at Eurovision in 1974\, ABBA has sold over 400 million copies of their albums. Furthermore\, new renditions of popular ABBA songs now permeate modern musicals and media\, stimulating a new generation of ABBA fans! \nForever ABBA Canada is North America’s #1 tribute to ABBA and its members have been dazzling audiences across the globe for many years. Forever ABBA Canada recreates the magic of ABBA with authentic costumes\, spectacular harmonies and note-perfect musicianship taking their audience on a musical journey back in time! \nHere’s what past guests have to say! \n“The show was excellent! Had attended last year\, and that experience was excellent as well. Hope ABBA Canada continues as a fixture on the Athens schedule for years to come.” – Amanda F. \n“10/10! This was my second time seeing ABBA Forever Canada at the Athens! They were amazing\, and I hope they return every year!!” – Jessica M. \n“A big 10! My granddaughter and I attended the ABBA concert and were delighted by the show. She still talks about it and wants to see another show. Good time had! We saw them the last time they were in town.” – Linda K. \n“A ten! For the ABBA show!” – Steve T. \n“Outstanding concert! Loved the music\, costumes\, engaging singers\, and incredible musicians! We just loved the whole Athens experience!” — Rebecca L. \n“Fantastic show! The energy was off the charts\, and the harmonies were spot on. It felt like a real ABBA concert\, and we couldn’t stop dancing. Can’t wait for the next one!” — Sarah M. \n“What a night! The costumes were perfect\, and the music transported us back in time. The whole audience was singing along\, and the band was amazing. Definitely one of the best shows we’ve seen at Athens!” — Mark T.. \n\nRESERVED SEATING \nPreferred Reserved Seating $401st. 6 rows Orchestra & 2 Rows Center Balcony \nGeneral Reserved Seating $35 \nA $5.00 per ticket Processing charge is added to all purchases and we collect a 6.5% State and County Sales Tax \nDue to the fact that the Historic Athens Theatre does not have an elevator to the balcony. The balcony is not accessible to anyone with a wheelchair or walker. \nAll Patrons with special needs can contact the Box Office at 386-736-1500 for our wheelchair/walker accessible seating. \n\n\n\n\n\nSPECIAL BOX SEAT PACKAGE \nBOX SEATS AVAILABLE6 SEATS PER BOX SEAT AREA $300PLEASE CONTACT THE BOX OFFICE AT 386-736-1500
URL:https://athensdeland.com/event/foreverabbacanada/2027-03-17/2/
LOCATION:FL
CATEGORIES:Concert/Performances/Events
ATTACH;FMTTYPE=image/png:https://athensdeland.com/wp-content/uploads/2019/08/ForeverABBACanada_2027_Web.png
END:VEVENT
BEGIN:VEVENT
DTSTART;TZID=America/New_York:20270318T193000
DTEND;TZID=America/New_York:20270318T213000
DTSTAMP:20260425T220102
CREATED:20260114T210940Z
LAST-MODIFIED:20260410T132329Z
UID:10004943-1805398200-1805405400@athensdeland.com
SUMMARY:Ted Swindley’s Honky Tonk Angels
DESCRIPTION:Turn It Up and Hit The road. \nSet to a soundtrack of legendary\, classic country music Honky Tonk Angels is a feel-good\, foot-stompin’ show filled with laughter\, friendship\, and beloved tunes. This lively jukebox musical delivers a boot-stomping celebration of iconic music and camaraderie\, following three small-town friends—Angela\, Darlene\, and Sue Ellen—who set their sights on Nashville in pursuit of country music stardom. As they hit the road\, the music fuels laughter\, heartache\, and a bond that grows stronger with every mile. Packed with toe-tapping tunes\, down-home charm\, and plenty of twang\, Honky Tonk Angels turns the stage into a full-on honky-tonk and reminds audiences that sometimes the best part of the journey is who you share it with. \nPresented through special arrangement with Broadway Licensing Global (www.broadwaylicensing.com) \nRating: PG-13 (adult themes and song content)\nRun time: Approximately 2 hours\, including a 15-minute intermission \nBUY TICKETS NOW \nSPECIAL ASL/ENGLISH INTERPRETED PERFORMANCE ON SATURDAY 3/13 at 7:30 PM \nSPECIAL AUDIO DESCRIBED PERFORMANCE ON SUNDAY 3/14 at 2:30 PM \nTO PURCHASE TICKETS IN THE SECTION WITH THE BEST SIGHT LINES TO THE INTERPRETERS\, PLEASE CONTACT THE BOX OFFICE EITHER AT 386-736-1500 OR EMAIL US AT BOXOFFICE@ATHENSDELAND.COM \n\nReserved Seating\nPreferred $38 (Row A-F\, Orchestra & CC-DD Center Balcony) \nAdult $33 – Senior $29\nStudent/Child $12 – Groups of 8 or more $26\nA $5.00 per ticket Processing charge is added to all purchases. \nAs the historic Athens Theatre does not have an elevator\, the balcony is not accessible to anyone with a wheelchair or walker. \nAll Patrons with special needs can contact the Box Office at 386-736-1500 for our wheelchair/walker accessible seating. \nSpecial Box Seat Package \nCatered exclusively by Joe Hearn Events\, The Elusive Grape\, Pat & Toni’s Sweet Things\, and 3 Smart Cookies. \n$500 – Price includes: \n\nUp to 11 seats in the Box Seat and Balcony area\nChoice of Red/White Wine\nCheese Platter\nChocolate Covered Strawberries\nCookies\n\nPlease contact the Box Office at 386-736-1500\, for this Package.\n(a $5 per seat processing fee is added to the cost of these packages)
URL:https://athensdeland.com/event/ted-swindleys-honky-tonk-angels/2027-03-18/
LOCATION:FL
CATEGORIES:Athens Theatre Company Productions
ATTACH;FMTTYPE=image/webp:https://athensdeland.com/wp-content/uploads/2026/01/HonkyTonkAngels_Web.webp
END:VEVENT
BEGIN:VEVENT
DTSTART;TZID=America/New_York:20270319T193000
DTEND;TZID=America/New_York:20270319T213000
DTSTAMP:20260425T220102
CREATED:20260114T210940Z
LAST-MODIFIED:20260410T132329Z
UID:10004944-1805484600-1805491800@athensdeland.com
SUMMARY:Ted Swindley’s Honky Tonk Angels
DESCRIPTION:Turn It Up and Hit The road. \nSet to a soundtrack of legendary\, classic country music Honky Tonk Angels is a feel-good\, foot-stompin’ show filled with laughter\, friendship\, and beloved tunes. This lively jukebox musical delivers a boot-stomping celebration of iconic music and camaraderie\, following three small-town friends—Angela\, Darlene\, and Sue Ellen—who set their sights on Nashville in pursuit of country music stardom. As they hit the road\, the music fuels laughter\, heartache\, and a bond that grows stronger with every mile. Packed with toe-tapping tunes\, down-home charm\, and plenty of twang\, Honky Tonk Angels turns the stage into a full-on honky-tonk and reminds audiences that sometimes the best part of the journey is who you share it with. \nPresented through special arrangement with Broadway Licensing Global (www.broadwaylicensing.com) \nRating: PG-13 (adult themes and song content)\nRun time: Approximately 2 hours\, including a 15-minute intermission \nBUY TICKETS NOW \nSPECIAL ASL/ENGLISH INTERPRETED PERFORMANCE ON SATURDAY 3/13 at 7:30 PM \nSPECIAL AUDIO DESCRIBED PERFORMANCE ON SUNDAY 3/14 at 2:30 PM \nTO PURCHASE TICKETS IN THE SECTION WITH THE BEST SIGHT LINES TO THE INTERPRETERS\, PLEASE CONTACT THE BOX OFFICE EITHER AT 386-736-1500 OR EMAIL US AT BOXOFFICE@ATHENSDELAND.COM \n\nReserved Seating\nPreferred $38 (Row A-F\, Orchestra & CC-DD Center Balcony) \nAdult $33 – Senior $29\nStudent/Child $12 – Groups of 8 or more $26\nA $5.00 per ticket Processing charge is added to all purchases. \nAs the historic Athens Theatre does not have an elevator\, the balcony is not accessible to anyone with a wheelchair or walker. \nAll Patrons with special needs can contact the Box Office at 386-736-1500 for our wheelchair/walker accessible seating. \nSpecial Box Seat Package \nCatered exclusively by Joe Hearn Events\, The Elusive Grape\, Pat & Toni’s Sweet Things\, and 3 Smart Cookies. \n$500 – Price includes: \n\nUp to 11 seats in the Box Seat and Balcony area\nChoice of Red/White Wine\nCheese Platter\nChocolate Covered Strawberries\nCookies\n\nPlease contact the Box Office at 386-736-1500\, for this Package.\n(a $5 per seat processing fee is added to the cost of these packages)
URL:https://athensdeland.com/event/ted-swindleys-honky-tonk-angels/2027-03-19/
LOCATION:FL
CATEGORIES:Athens Theatre Company Productions
ATTACH;FMTTYPE=image/webp:https://athensdeland.com/wp-content/uploads/2026/01/HonkyTonkAngels_Web.webp
END:VEVENT
BEGIN:VEVENT
DTSTART;TZID=America/New_York:20270320T193000
DTEND;TZID=America/New_York:20270320T213000
DTSTAMP:20260425T220102
CREATED:20260114T210940Z
LAST-MODIFIED:20260410T132329Z
UID:10004945-1805571000-1805578200@athensdeland.com
SUMMARY:Ted Swindley’s Honky Tonk Angels
DESCRIPTION:Turn It Up and Hit The road. \nSet to a soundtrack of legendary\, classic country music Honky Tonk Angels is a feel-good\, foot-stompin’ show filled with laughter\, friendship\, and beloved tunes. This lively jukebox musical delivers a boot-stomping celebration of iconic music and camaraderie\, following three small-town friends—Angela\, Darlene\, and Sue Ellen—who set their sights on Nashville in pursuit of country music stardom. As they hit the road\, the music fuels laughter\, heartache\, and a bond that grows stronger with every mile. Packed with toe-tapping tunes\, down-home charm\, and plenty of twang\, Honky Tonk Angels turns the stage into a full-on honky-tonk and reminds audiences that sometimes the best part of the journey is who you share it with. \nPresented through special arrangement with Broadway Licensing Global (www.broadwaylicensing.com) \nRating: PG-13 (adult themes and song content)\nRun time: Approximately 2 hours\, including a 15-minute intermission \nBUY TICKETS NOW \nSPECIAL ASL/ENGLISH INTERPRETED PERFORMANCE ON SATURDAY 3/13 at 7:30 PM \nSPECIAL AUDIO DESCRIBED PERFORMANCE ON SUNDAY 3/14 at 2:30 PM \nTO PURCHASE TICKETS IN THE SECTION WITH THE BEST SIGHT LINES TO THE INTERPRETERS\, PLEASE CONTACT THE BOX OFFICE EITHER AT 386-736-1500 OR EMAIL US AT BOXOFFICE@ATHENSDELAND.COM \n\nReserved Seating\nPreferred $38 (Row A-F\, Orchestra & CC-DD Center Balcony) \nAdult $33 – Senior $29\nStudent/Child $12 – Groups of 8 or more $26\nA $5.00 per ticket Processing charge is added to all purchases. \nAs the historic Athens Theatre does not have an elevator\, the balcony is not accessible to anyone with a wheelchair or walker. \nAll Patrons with special needs can contact the Box Office at 386-736-1500 for our wheelchair/walker accessible seating. \nSpecial Box Seat Package \nCatered exclusively by Joe Hearn Events\, The Elusive Grape\, Pat & Toni’s Sweet Things\, and 3 Smart Cookies. \n$500 – Price includes: \n\nUp to 11 seats in the Box Seat and Balcony area\nChoice of Red/White Wine\nCheese Platter\nChocolate Covered Strawberries\nCookies\n\nPlease contact the Box Office at 386-736-1500\, for this Package.\n(a $5 per seat processing fee is added to the cost of these packages)
URL:https://athensdeland.com/event/ted-swindleys-honky-tonk-angels/2027-03-20/
LOCATION:FL
CATEGORIES:Athens Theatre Company Productions
ATTACH;FMTTYPE=image/webp:https://athensdeland.com/wp-content/uploads/2026/01/HonkyTonkAngels_Web.webp
END:VEVENT
BEGIN:VEVENT
DTSTART;TZID=America/New_York:20270321T143000
DTEND;TZID=America/New_York:20270321T173000
DTSTAMP:20260425T220102
CREATED:20260114T210940Z
LAST-MODIFIED:20260410T132329Z
UID:10004978-1805639400-1805650200@athensdeland.com
SUMMARY:Ted Swindley’s Honky Tonk Angels
DESCRIPTION:Turn It Up and Hit The road. \nSet to a soundtrack of legendary\, classic country music Honky Tonk Angels is a feel-good\, foot-stompin’ show filled with laughter\, friendship\, and beloved tunes. This lively jukebox musical delivers a boot-stomping celebration of iconic music and camaraderie\, following three small-town friends—Angela\, Darlene\, and Sue Ellen—who set their sights on Nashville in pursuit of country music stardom. As they hit the road\, the music fuels laughter\, heartache\, and a bond that grows stronger with every mile. Packed with toe-tapping tunes\, down-home charm\, and plenty of twang\, Honky Tonk Angels turns the stage into a full-on honky-tonk and reminds audiences that sometimes the best part of the journey is who you share it with. \nPresented through special arrangement with Broadway Licensing Global (www.broadwaylicensing.com) \nRating: PG-13 (adult themes and song content)\nRun time: Approximately 2 hours\, including a 15-minute intermission \nBUY TICKETS NOW \nSPECIAL ASL/ENGLISH INTERPRETED PERFORMANCE ON SATURDAY 3/13 at 7:30 PM \nSPECIAL AUDIO DESCRIBED PERFORMANCE ON SUNDAY 3/14 at 2:30 PM \nTO PURCHASE TICKETS IN THE SECTION WITH THE BEST SIGHT LINES TO THE INTERPRETERS\, PLEASE CONTACT THE BOX OFFICE EITHER AT 386-736-1500 OR EMAIL US AT BOXOFFICE@ATHENSDELAND.COM \n\nReserved Seating\nPreferred $38 (Row A-F\, Orchestra & CC-DD Center Balcony) \nAdult $33 – Senior $29\nStudent/Child $12 – Groups of 8 or more $26\nA $5.00 per ticket Processing charge is added to all purchases. \nAs the historic Athens Theatre does not have an elevator\, the balcony is not accessible to anyone with a wheelchair or walker. \nAll Patrons with special needs can contact the Box Office at 386-736-1500 for our wheelchair/walker accessible seating. \nSpecial Box Seat Package \nCatered exclusively by Joe Hearn Events\, The Elusive Grape\, Pat & Toni’s Sweet Things\, and 3 Smart Cookies. \n$500 – Price includes: \n\nUp to 11 seats in the Box Seat and Balcony area\nChoice of Red/White Wine\nCheese Platter\nChocolate Covered Strawberries\nCookies\n\nPlease contact the Box Office at 386-736-1500\, for this Package.\n(a $5 per seat processing fee is added to the cost of these packages)
URL:https://athensdeland.com/event/ted-swindleys-honky-tonk-angels/2027-03-21/
LOCATION:FL
CATEGORIES:Athens Theatre Company Productions
ATTACH;FMTTYPE=image/webp:https://athensdeland.com/wp-content/uploads/2026/01/HonkyTonkAngels_Web.webp
END:VEVENT
END:VCALENDAR