BEGIN:VCALENDAR
VERSION:2.0
PRODID:-//Athens Theatre | Deland, Florida - ECPv6.15.17.1//NONSGML v1.0//EN
CALSCALE:GREGORIAN
METHOD:PUBLISH
X-ORIGINAL-URL:https://athensdeland.com
X-WR-CALDESC:Events for Athens Theatre | Deland, Florida
REFRESH-INTERVAL;VALUE=DURATION:PT1H
X-Robots-Tag:noindex
X-PUBLISHED-TTL:PT1H
BEGIN:VTIMEZONE
TZID:America/New_York
BEGIN:DAYLIGHT
TZOFFSETFROM:-0500
TZOFFSETTO:-0400
TZNAME:EDT
DTSTART:20250309T070000
END:DAYLIGHT
BEGIN:STANDARD
TZOFFSETFROM:-0400
TZOFFSETTO:-0500
TZNAME:EST
DTSTART:20251102T060000
END:STANDARD
BEGIN:DAYLIGHT
TZOFFSETFROM:-0500
TZOFFSETTO:-0400
TZNAME:EDT
DTSTART:20260308T070000
END:DAYLIGHT
BEGIN:STANDARD
TZOFFSETFROM:-0400
TZOFFSETTO:-0500
TZNAME:EST
DTSTART:20261101T060000
END:STANDARD
BEGIN:DAYLIGHT
TZOFFSETFROM:-0500
TZOFFSETTO:-0400
TZNAME:EDT
DTSTART:20270314T070000
END:DAYLIGHT
BEGIN:STANDARD
TZOFFSETFROM:-0400
TZOFFSETTO:-0500
TZNAME:EST
DTSTART:20271107T060000
END:STANDARD
BEGIN:DAYLIGHT
TZOFFSETFROM:-0500
TZOFFSETTO:-0400
TZNAME:EDT
DTSTART:20280312T070000
END:DAYLIGHT
BEGIN:STANDARD
TZOFFSETFROM:-0400
TZOFFSETTO:-0500
TZNAME:EST
DTSTART:20281105T060000
END:STANDARD
END:VTIMEZONE
BEGIN:VEVENT
DTSTART;TZID=America/New_York:20260815T193000
DTEND;TZID=America/New_York:20260815T193000
DTSTAMP:20260424T020454
CREATED:20190702T163644Z
LAST-MODIFIED:20250930T132901Z
UID:10000033-1786822200-1786822200@athensdeland.com
SUMMARY:Diamond: A Tribute to Neil Diamond
DESCRIPTION:DIAMOND is the ultimate tribute to the legendary singer-songwriter Neil Diamond\, as performed by Jack Berrios. This performance captures the feel\, sound\, passion\, and excitement of a real Neil Diamond concert. Jack is joined on stage by his Diamond Crew: The Diamond Girls\, Janet Lamb and Kitei\, who provide backing vocals and add the glitter to the show. The Brother Love Crew—Bradley Garrison on congas and Talon Berrios on vocals and percussion—bring never-ending energy and excitement to the stage.\n\n\n\n\n\n\n\n\n\nDIAMOND has been featured on The Tonight Show with Jay Leno\, The Daily Buzz with Andy Campbell\, and FUSE TV’s A Different Spin with Mark Hoppus of Blink-182\, as part of the Sunburst Convention segments. In May 2008\, when Neil Diamond was asked by Magic 107.7 FM radio hosts Dave and Leslye what he thought of Jack’s tribute\, Neil replied\, “I think it’s terrific.” \n\n\n\n\n\n\nReviews from past patrons include: \n\nRich P. – Absolutely 10 stars! Please tell me where Diamond will appear next!!!!! Fantastic show!\nCindy  G. – We really enjoy Neil.  He put his heart into a great performance.\nMaia K.-  Out of 5 we rate it a 10!  Loved the audience participation!  Production was marvelous!\nNick G. – Very good show. This is my 2nd time and I would go again.\n\n\nRESERVE SEATING\nPreferred Reserved Seating $40\n1st. 6 rows Orchestra & 2 Rows Center Balcony \nGeneral Reserved Seating $35 \nA $5.00 per ticket Processing charge is added to all purchases and we collect a 6.5% State and County Sales Tax \nDue to the fact that the Historic Athens Theatre does not have an elevator to the balcony. The balcony is not accessible to anyone with a wheelchair or walker. \nAll Patrons with special needs can contact the Box Office at 386-736-1500 for our wheelchair/walker accessible seating. \n\nSPECIAL BOX SEAT PACKAGE\nBOX SEATS AVAILABLE\n6 SEATS PER BOX SEAT AREA $300\nPLEASE CONTACT THE BOX OFFICE AT 386-736-1500
URL:https://athensdeland.com/event/diamond-a-tribute-to-neil-diamond/
LOCATION:Athens Theatre\, 124 N Florida Ave\, DeLand\, FL\, 32720\, United States
CATEGORIES:Concert/Performances/Events
ATTACH;FMTTYPE=image/png:https://athensdeland.com/wp-content/uploads/2019/07/Diamond-Tribute-2026_Web.png
END:VEVENT
BEGIN:VEVENT
DTSTART;TZID=America/New_York:20260819T193000
DTEND;TZID=America/New_York:20260819T213000
DTSTAMP:20260424T020454
CREATED:20190702T164105Z
LAST-MODIFIED:20251204T173048Z
UID:10000038-1787167800-1787175000@athensdeland.com
SUMMARY:Peace of Woodstock
DESCRIPTION:PEACE OF WOODSTOCK is a 90-minute music-and-visuals show that’s an in-the-moment tribute to the celebrated Woodstock Music & Art Fair\, the legendary three-day concert that took place in August 1969. \n57 years ago\, an audience of more than 400\,000 travelled to Max Yasgur’s dairy farm in upstate New York to listen to musical acts ranging from Richie Havens and Janis Joplin to Sly and the Family Stone\, Jefferson Airplane the event’s breakout group\, and Santana. Woodstock changed everything. \nPeace of Woodstock returns you to the event that defined the ‘60s. From the hippie vibe and protest songs to the flowers-in-the-hair attendees clothed in bellbottoms and tie-dye\, Peace of Woodstock is a note-perfect tribute to one of popular music’s most monumental moments. \nReviews from past patrons include: \n\nJan P. –  This show was a definite 10. We took my sister-in-law and her husband\, and she said she felt like she was 24 again.\nPeter M.  – Every member of the band was exceptional!\nMichael D. – What a great show!!!\nBarbara C. – 10  stars ALL day long!!!\n\n\nRESERVE SEATING \nPreferred Reserved Seating $401st. 6 rows Orchestra & 2 Rows Center Balcony \nGeneral Reserved Seating $35 \nA $5.00 per ticket Processing charge is added to all purchases and we collect a 6.5% State and County Sales Tax \nDue to the fact that the Historic Athens Theatre does not have an elevator to the balcony. The balcony is not accessible to anyone with a wheelchair or walker. \nAll Patrons with special needs can contact the Box Office at 386-736-1500 for our wheelchair/walker accessible seating. \n\n\n\n\n\nSPECIAL BOX SEAT PACKAGE \nBOX SEATS AVAILABLE6 SEATS PER BOX SEAT AREA $300PLEASE CONTACT THE BOX OFFICE AT 386-736-1500
URL:https://athensdeland.com/event/peace-of-woodstock/
LOCATION:Athens Theatre\, 124 N Florida Ave\, DeLand\, FL\, 32720\, United States
CATEGORIES:Concert/Performances/Events
ATTACH;FMTTYPE=image/png:https://athensdeland.com/wp-content/uploads/2019/07/POW-2026_Web.png
END:VEVENT
BEGIN:VEVENT
DTSTART;TZID=America/New_York:20261023T193000
DTEND;TZID=America/New_York:20261023T210000
DTSTAMP:20260424T020454
CREATED:20200402T160709Z
LAST-MODIFIED:20251106T172255Z
UID:10000006-1792783800-1792789200@athensdeland.com
SUMMARY:John Denver Tribute
DESCRIPTION:What Sinatra was to the 1940s\, Elvis to the 1950s\, and the Beatles to the 1960s\, John Denver was to the 1970s. Known as the song’s best friend\, John’s music resonates through generations\, and Carl Bennett’s tribute show truly captures the essence of this beloved music legend.\n\n\n\n\n\n\n\n\n\n\nCarl Bennett has been described as the “real deal” when it comes to channeling Denver’s musical likeness. His remarkable voice and style bring John Denver’s greatest hits to life. This tribute is a true walk down memory lane\, featuring all of Denver’s iconic songs. \nSo\, sit back\, relax\, and let the music take you wherever it may go—just as John used to say—and enjoy an unforgettable John Denver music experience. \n\n\n\n\n\n\n\nRESERVED SEATING\nPreferred Reserved Seating $40\n1st. 6 rows Orchestra & 2 Rows Center Balcony \nGeneral Reserved Seating $35 \nA $5.00 per ticket Processing charge is added to all purchases and we collect a 6.5% State and County Sales Tax \nDue to the fact that the Historic Athens Theatre does not have an elevator to the balcony. The balcony is not accessible to anyone with a wheelchair or walker. \nAll Patrons with special needs can contact the Box Office at 386-736-1500 for our wheelchair/walker accessible seating. \n\nSPECIAL BOX SEAT PACKAGE\nBOX SEATS AVAILABLE\n6 SEATS PER BOX SEAT AREA $300\nPLEASE CONTACT THE BOX OFFICE AT 386-736-1500
URL:https://athensdeland.com/event/john-denver-tribute/
LOCATION:Athens Theatre\, 124 N Florida Ave\, DeLand\, FL\, 32720\, United States
CATEGORIES:Concert/Performances/Events
ATTACH;FMTTYPE=image/png:https://athensdeland.com/wp-content/uploads/2020/04/John-Denver_2026_Web-1.png
END:VEVENT
BEGIN:VEVENT
DTSTART;TZID=America/New_York:20270331T193000
DTEND;TZID=America/New_York:20270331T210000
DTSTAMP:20260424T020454
CREATED:20190702T164419Z
LAST-MODIFIED:20260209T194659Z
UID:10000042-1806521400-1806526800@athensdeland.com
SUMMARY:The ELO Experience
DESCRIPTION:The Band is a multimedia theatrical performance of Electric Light Orchestra Music. “Ticket to the Moon” is a 2-hour performance featuring 10 musicians and all of the best ELO hits including “Don’t Bring Me Down\,” “Evil Woman\,” “Can’t Get It Outa My Head\,” “Strange Magic\,” and so many more of the songs that were the sounds track to our lives during the bell-bottomed-80’s and the big-haired-90’s. \nHere’s what past guests have to say! \n\n\n\n\n“One of the best concerts we’ve seen. We saw them last year and thought they were great—but they were even better this year. A perfect outing in every way.” — Jessica T. \n“This is our third time seeing Ticket to the Moon at the Athens\, and they just keep getting better. A solid 10.” — Maria R. \n“10/10! Really great show—they sounded amazing.” — David L. \n“I’m an avid ELO fan and was very impressed. They did a wonderful job recreating such complex music.” — Brian S. \n“Awesome—loved them. Hope to see them again!” — Linda P. \n“They were great and incredibly fan-friendly. We’d absolutely come back to see them again.” — Kevin M. \n“Great show as always. Bring them back soon!” — Angela C. \n“We’ve seen this group before and they never disappoint. Such a fun night.” — Robert H. \n“The band was fantastic and we always enjoy spending an evening at the Athens Theatre! Thank you!” — Elaine T. \n“They were great! I’ve come to see them two years in a row now.” — Tony B. \n“They put on an excellent show\, as usual—will definitely attend again!” — Heather M. \n“Hi! The event was a 10—all aspects!” — Rob K. \n“Third time seeing it—loved it!” — Sandra L. \n\n\n\n\n\n\n\n\n\n\n\n\nRESERVE SEATING\nPreferred Reserved Seating $40\n1st. 6 rows Orchestra & 2 Rows Center Balcony \nGeneral Reserved Seating $35 \nA $5.00 per ticket Processing charge is added to all purchases and we collect a 6.5% State and County Sales Tax \nDue to the fact that the Historic Athens Theatre does not have an elevator to the balcony. The balcony is not accessible to anyone with a wheelchair or walker. \nAll Patrons with special needs can contact the Box Office at 386-736-1500 for our wheelchair/walker accessible seating. \n\nSPECIAL BOX SEAT PACKAGE\nBOX SEATS AVAILABLE\n6 SEATS PER BOX SEAT AREA $300\nPLEASE CONTACT THE BOX OFFICE AT 386-736-1500 \n 
URL:https://athensdeland.com/event/the-music-of-elo/
LOCATION:Athens Theatre\, 124 N Florida Ave\, DeLand\, FL\, 32720\, United States
CATEGORIES:Concert/Performances/Events
ATTACH;FMTTYPE=image/png:https://athensdeland.com/wp-content/uploads/2019/07/ELO_2027_Web.png
END:VEVENT
BEGIN:VEVENT
DTSTART;TZID=America/New_York:20270401T193000
DTEND;TZID=America/New_York:20270401T213000
DTSTAMP:20260424T020454
CREATED:20250128T214056Z
LAST-MODIFIED:20260320T143156Z
UID:10004987-1806607800-1806615000@athensdeland.com
SUMMARY:LIVERPOOL LEGENDS:THE COMPLETE BEATLES EXPERIENCE!
DESCRIPTION:Liverpool Legends are four lads who were hand-picked by Louise Harrison\, sister of the late George Harrison of The Beatles.\nInternationally acclaimed Liverpool Legends have toured the world culminating with two sold out performances for 20\,000 people at Auditorio Nacional in Mexico City\, as well as performances in India\, Israel\, Ecuador\, Chile\, England\, Canada\, and throughout the U.S.!\nLiverpool Legends recorded and produced all The Beatles songs for the album “Fab Fan Memories” which was nominated for a Grammy Award.\nLiverpool Legends have headlined at the prestigious Rose Bowl four times\, performing for over 160\,000 people.\nLiverpool Legends have performed at the world-famous Carnegie Hall in New York City.\nLiverpool Legends were chosen over every other Beatles Tribute band in the world by top television and film producer Jerry Bruckheimer (CSI\, Pirates of The Caribbean\, National Treasure) to portray the band that changed the course of music and the world forever!\nLiverpool Legends have headlined their own production in Branson Missouri since 2005. They were “Voted Tribute Show of The Year in 2022” and have been awarded “Best Show”\, “Best Band”\, and received the prestigious “Visitors’ Choice Award for Entertainer of The Year.”\n\nHere’s what past guests have to say: \n“This was off the chart—by far the best Beatles tribute we’ve ever seen. We had a wonderful time and can’t thank you enough for bringing them to the Athens.”— Teresa K. \n“Perfect 10. Truly the best show ever. We’ll absolutely be back next year.”— Mario P. \n“Outstanding entertainment from start to finish. The music\, vocals\, and performance were incredible.”— Linda R. \n“We drove from Gainesville and stayed overnight because we love this show so much. It’s the best Beatles tribute anywhere.”— Carlos M. \n“My favorite tribute concert yet—so much energy\, audience interaction\, and fun. We wished we had tickets for another night.”— Janet S. \n“This was our third time seeing them at the beautiful Athens Theatre\, and each year is better than the last. A truly great time for everyone.”— Robert D. \n“The resemblance\, sound\, and musicianship were amazing. Our whole family—from 84 to 15—loved every minute.”— Angela T. \n“An enthusiastic 10. The music was a wonderful tribute\, and we had such a joyful time singing and dancing.”— Michael B. \nRESERVED SEATING \nPreferred Reserved Seating $40\n1st. 6 rows Orchestra & 2 Rows Center Balcony \nGeneral Reserved Seating $35 \nA $5.00 per ticket Processing charge is added to all purchases and we collect a 6.5% State and County Sales Tax \nDue to the fact that the Historic Athens Theatre does not have an elevator to the balcony. The balcony is not accessible to anyone with a wheelchair or walker. \nAll Patrons with special needs can contact the Box Office at 386-736-1500 for our wheelchair/walker accessible seating. \nSPECIAL BOX SEAT PACKAGE \nBOX SEATS AVAILABLE $300\n6 SEATS PER BOX SEAT AREA\nPLEASE CONTACT THE BOX OFFICE AT 386-736-1500
URL:https://athensdeland.com/event/liverpool-legendsthe-complete-beatles-experience/2027-04-01/
LOCATION:Athens Theatre\, 124 N Florida Ave\, DeLand\, FL\, 32720\, United States
ATTACH;FMTTYPE=image/png:https://athensdeland.com/wp-content/uploads/2025/01/LiverpoolLegends_2027_Web.png
END:VEVENT
BEGIN:VEVENT
DTSTART;TZID=America/New_York:20270402T193000
DTEND;TZID=America/New_York:20270402T213000
DTSTAMP:20260424T020454
CREATED:20250128T214056Z
LAST-MODIFIED:20260320T143156Z
UID:10004988-1806694200-1806701400@athensdeland.com
SUMMARY:LIVERPOOL LEGENDS:THE COMPLETE BEATLES EXPERIENCE!
DESCRIPTION:Liverpool Legends are four lads who were hand-picked by Louise Harrison\, sister of the late George Harrison of The Beatles.\nInternationally acclaimed Liverpool Legends have toured the world culminating with two sold out performances for 20\,000 people at Auditorio Nacional in Mexico City\, as well as performances in India\, Israel\, Ecuador\, Chile\, England\, Canada\, and throughout the U.S.!\nLiverpool Legends recorded and produced all The Beatles songs for the album “Fab Fan Memories” which was nominated for a Grammy Award.\nLiverpool Legends have headlined at the prestigious Rose Bowl four times\, performing for over 160\,000 people.\nLiverpool Legends have performed at the world-famous Carnegie Hall in New York City.\nLiverpool Legends were chosen over every other Beatles Tribute band in the world by top television and film producer Jerry Bruckheimer (CSI\, Pirates of The Caribbean\, National Treasure) to portray the band that changed the course of music and the world forever!\nLiverpool Legends have headlined their own production in Branson Missouri since 2005. They were “Voted Tribute Show of The Year in 2022” and have been awarded “Best Show”\, “Best Band”\, and received the prestigious “Visitors’ Choice Award for Entertainer of The Year.”\n\nHere’s what past guests have to say: \n“This was off the chart—by far the best Beatles tribute we’ve ever seen. We had a wonderful time and can’t thank you enough for bringing them to the Athens.”— Teresa K. \n“Perfect 10. Truly the best show ever. We’ll absolutely be back next year.”— Mario P. \n“Outstanding entertainment from start to finish. The music\, vocals\, and performance were incredible.”— Linda R. \n“We drove from Gainesville and stayed overnight because we love this show so much. It’s the best Beatles tribute anywhere.”— Carlos M. \n“My favorite tribute concert yet—so much energy\, audience interaction\, and fun. We wished we had tickets for another night.”— Janet S. \n“This was our third time seeing them at the beautiful Athens Theatre\, and each year is better than the last. A truly great time for everyone.”— Robert D. \n“The resemblance\, sound\, and musicianship were amazing. Our whole family—from 84 to 15—loved every minute.”— Angela T. \n“An enthusiastic 10. The music was a wonderful tribute\, and we had such a joyful time singing and dancing.”— Michael B. \nRESERVED SEATING \nPreferred Reserved Seating $40\n1st. 6 rows Orchestra & 2 Rows Center Balcony \nGeneral Reserved Seating $35 \nA $5.00 per ticket Processing charge is added to all purchases and we collect a 6.5% State and County Sales Tax \nDue to the fact that the Historic Athens Theatre does not have an elevator to the balcony. The balcony is not accessible to anyone with a wheelchair or walker. \nAll Patrons with special needs can contact the Box Office at 386-736-1500 for our wheelchair/walker accessible seating. \nSPECIAL BOX SEAT PACKAGE \nBOX SEATS AVAILABLE $300\n6 SEATS PER BOX SEAT AREA\nPLEASE CONTACT THE BOX OFFICE AT 386-736-1500
URL:https://athensdeland.com/event/liverpool-legendsthe-complete-beatles-experience/2027-04-02/
LOCATION:Athens Theatre\, 124 N Florida Ave\, DeLand\, FL\, 32720\, United States
ATTACH;FMTTYPE=image/png:https://athensdeland.com/wp-content/uploads/2025/01/LiverpoolLegends_2027_Web.png
END:VEVENT
BEGIN:VEVENT
DTSTART;TZID=America/New_York:20270403T153000
DTEND;TZID=America/New_York:20270403T173000
DTSTAMP:20260424T020454
CREATED:20250128T214056Z
LAST-MODIFIED:20260320T143156Z
UID:10004989-1806766200-1806773400@athensdeland.com
SUMMARY:LIVERPOOL LEGENDS:THE COMPLETE BEATLES EXPERIENCE!
DESCRIPTION:Liverpool Legends are four lads who were hand-picked by Louise Harrison\, sister of the late George Harrison of The Beatles.\nInternationally acclaimed Liverpool Legends have toured the world culminating with two sold out performances for 20\,000 people at Auditorio Nacional in Mexico City\, as well as performances in India\, Israel\, Ecuador\, Chile\, England\, Canada\, and throughout the U.S.!\nLiverpool Legends recorded and produced all The Beatles songs for the album “Fab Fan Memories” which was nominated for a Grammy Award.\nLiverpool Legends have headlined at the prestigious Rose Bowl four times\, performing for over 160\,000 people.\nLiverpool Legends have performed at the world-famous Carnegie Hall in New York City.\nLiverpool Legends were chosen over every other Beatles Tribute band in the world by top television and film producer Jerry Bruckheimer (CSI\, Pirates of The Caribbean\, National Treasure) to portray the band that changed the course of music and the world forever!\nLiverpool Legends have headlined their own production in Branson Missouri since 2005. They were “Voted Tribute Show of The Year in 2022” and have been awarded “Best Show”\, “Best Band”\, and received the prestigious “Visitors’ Choice Award for Entertainer of The Year.”\n\nHere’s what past guests have to say: \n“This was off the chart—by far the best Beatles tribute we’ve ever seen. We had a wonderful time and can’t thank you enough for bringing them to the Athens.”— Teresa K. \n“Perfect 10. Truly the best show ever. We’ll absolutely be back next year.”— Mario P. \n“Outstanding entertainment from start to finish. The music\, vocals\, and performance were incredible.”— Linda R. \n“We drove from Gainesville and stayed overnight because we love this show so much. It’s the best Beatles tribute anywhere.”— Carlos M. \n“My favorite tribute concert yet—so much energy\, audience interaction\, and fun. We wished we had tickets for another night.”— Janet S. \n“This was our third time seeing them at the beautiful Athens Theatre\, and each year is better than the last. A truly great time for everyone.”— Robert D. \n“The resemblance\, sound\, and musicianship were amazing. Our whole family—from 84 to 15—loved every minute.”— Angela T. \n“An enthusiastic 10. The music was a wonderful tribute\, and we had such a joyful time singing and dancing.”— Michael B. \nRESERVED SEATING \nPreferred Reserved Seating $40\n1st. 6 rows Orchestra & 2 Rows Center Balcony \nGeneral Reserved Seating $35 \nA $5.00 per ticket Processing charge is added to all purchases and we collect a 6.5% State and County Sales Tax \nDue to the fact that the Historic Athens Theatre does not have an elevator to the balcony. The balcony is not accessible to anyone with a wheelchair or walker. \nAll Patrons with special needs can contact the Box Office at 386-736-1500 for our wheelchair/walker accessible seating. \nSPECIAL BOX SEAT PACKAGE \nBOX SEATS AVAILABLE $300\n6 SEATS PER BOX SEAT AREA\nPLEASE CONTACT THE BOX OFFICE AT 386-736-1500
URL:https://athensdeland.com/event/liverpool-legendsthe-complete-beatles-experience/2027-04-03/1/
LOCATION:Athens Theatre\, 124 N Florida Ave\, DeLand\, FL\, 32720\, United States
ATTACH;FMTTYPE=image/png:https://athensdeland.com/wp-content/uploads/2025/01/LiverpoolLegends_2027_Web.png
END:VEVENT
BEGIN:VEVENT
DTSTART;TZID=America/New_York:20270403T193000
DTEND;TZID=America/New_York:20270403T213000
DTSTAMP:20260424T020454
CREATED:20250128T214056Z
LAST-MODIFIED:20260320T143156Z
UID:10004990-1806780600-1806787800@athensdeland.com
SUMMARY:LIVERPOOL LEGENDS:THE COMPLETE BEATLES EXPERIENCE!
DESCRIPTION:Liverpool Legends are four lads who were hand-picked by Louise Harrison\, sister of the late George Harrison of The Beatles.\nInternationally acclaimed Liverpool Legends have toured the world culminating with two sold out performances for 20\,000 people at Auditorio Nacional in Mexico City\, as well as performances in India\, Israel\, Ecuador\, Chile\, England\, Canada\, and throughout the U.S.!\nLiverpool Legends recorded and produced all The Beatles songs for the album “Fab Fan Memories” which was nominated for a Grammy Award.\nLiverpool Legends have headlined at the prestigious Rose Bowl four times\, performing for over 160\,000 people.\nLiverpool Legends have performed at the world-famous Carnegie Hall in New York City.\nLiverpool Legends were chosen over every other Beatles Tribute band in the world by top television and film producer Jerry Bruckheimer (CSI\, Pirates of The Caribbean\, National Treasure) to portray the band that changed the course of music and the world forever!\nLiverpool Legends have headlined their own production in Branson Missouri since 2005. They were “Voted Tribute Show of The Year in 2022” and have been awarded “Best Show”\, “Best Band”\, and received the prestigious “Visitors’ Choice Award for Entertainer of The Year.”\n\nHere’s what past guests have to say: \n“This was off the chart—by far the best Beatles tribute we’ve ever seen. We had a wonderful time and can’t thank you enough for bringing them to the Athens.”— Teresa K. \n“Perfect 10. Truly the best show ever. We’ll absolutely be back next year.”— Mario P. \n“Outstanding entertainment from start to finish. The music\, vocals\, and performance were incredible.”— Linda R. \n“We drove from Gainesville and stayed overnight because we love this show so much. It’s the best Beatles tribute anywhere.”— Carlos M. \n“My favorite tribute concert yet—so much energy\, audience interaction\, and fun. We wished we had tickets for another night.”— Janet S. \n“This was our third time seeing them at the beautiful Athens Theatre\, and each year is better than the last. A truly great time for everyone.”— Robert D. \n“The resemblance\, sound\, and musicianship were amazing. Our whole family—from 84 to 15—loved every minute.”— Angela T. \n“An enthusiastic 10. The music was a wonderful tribute\, and we had such a joyful time singing and dancing.”— Michael B. \nRESERVED SEATING \nPreferred Reserved Seating $40\n1st. 6 rows Orchestra & 2 Rows Center Balcony \nGeneral Reserved Seating $35 \nA $5.00 per ticket Processing charge is added to all purchases and we collect a 6.5% State and County Sales Tax \nDue to the fact that the Historic Athens Theatre does not have an elevator to the balcony. The balcony is not accessible to anyone with a wheelchair or walker. \nAll Patrons with special needs can contact the Box Office at 386-736-1500 for our wheelchair/walker accessible seating. \nSPECIAL BOX SEAT PACKAGE \nBOX SEATS AVAILABLE $300\n6 SEATS PER BOX SEAT AREA\nPLEASE CONTACT THE BOX OFFICE AT 386-736-1500
URL:https://athensdeland.com/event/liverpool-legendsthe-complete-beatles-experience/2027-04-03/2/
LOCATION:Athens Theatre\, 124 N Florida Ave\, DeLand\, FL\, 32720\, United States
ATTACH;FMTTYPE=image/png:https://athensdeland.com/wp-content/uploads/2025/01/LiverpoolLegends_2027_Web.png
END:VEVENT
BEGIN:VEVENT
DTSTART;TZID=America/New_York:20270814T193000
DTEND;TZID=America/New_York:20270814T210000
DTSTAMP:20260424T020454
CREATED:20260415T150937Z
LAST-MODIFIED:20260419T174103Z
UID:10004995-1818271800-1818277200@athensdeland.com
SUMMARY:Given to Fly: The Pearl Jam Experience
DESCRIPTION:Given to Fly – The Pearl Jam Experience brings the raw power and unmistakable energy of Pearl Jam to the stage with striking authenticity. Fronted by Bob Donahue—whose rich\, resonant voice channels the sound of Eddie Vedder—this band delivers the grit\, emotion\, and intensity that define Pearl Jam’s live shows\, from iconic hits to deep cuts and newer material.\n\n\n\n\n\n\n\n\n\n\n\n\n\n\nVoted #1 Tribute Band in the Capital Region of Upstate New York\, Given to Fly is now based in Florida\, bringing its high-voltage performance to audiences across the country. \n\n\n\n\n\n\n\n\n“Given To Fly – The Pearl Jam Experience doesn’t dress the part\, other than the 1990s outfit du jour: flannels and jeans. But listen to Bob Donahue’s pitch-perfect Eddie Vedder and the band’s dual guitar attack—carbon copies of Stone Gossard and Mike McCready\, respectively—and you’d swear you were in a Seattle club in the early ’90s.”  – Saratoga Living Magazine\n\n\n\n\nRESERVED SEATING\nPreferred Reserved Seating $40\n1st. 6 rows Orchestra & 2 Rows Center Balcony \nGeneral Reserved Seating $35 \nA $5.00 per ticket Processing charge is added to all purchases and we collect a 6.5% State and County Sales Tax \nDue to the fact that the Historic Athens Theatre does not have an elevator to the balcony. The balcony is not accessible to anyone with a wheelchair or walker. \nAll Patrons with special needs can contact the Box Office at 386-736-1500 for our wheelchair/walker accessible seating. \n\nSPECIAL BOX SEAT PACKAGE\nBOX SEATS AVAILABLE\n6 SEATS PER BOX SEAT AREA $300\nPLEASE CONTACT THE BOX OFFICE AT 386-736-1500
URL:https://athensdeland.com/event/given-to-fly-the-pearl-jam-experience/
LOCATION:Athens Theatre\, 124 N Florida Ave\, DeLand\, FL\, 32720\, United States
ATTACH;FMTTYPE=image/png:https://athensdeland.com/wp-content/uploads/2026/04/PearJam_2027_Web.png
END:VEVENT
END:VCALENDAR